Workbook

Sheet 0 - Introduction - Diagnostic
A7: Diagnostic des capacités organisationnelles / Organizational capacity diagnostic
A9: Nom de l'organisation :
A10: Date du processus :
A12: Introduction | D12: Introduction
A13: Le renforcement des capacités est un processus structuré visant à améliorer l'efficacité et l'efficience d'une organisation pour atteindre ses objectifs et fournir des services de qualité en renforçant ses capacités organisationnelles et techniques. | D13: Capacity building is a structured process aimed at improving the effectiveness and efficiency of an organisation to achieve its objectives and deliver quality services by strengthening its organisational and technical capacities.
A14: Le diagnostic des capacités organisationnelles permet à l'organisation d'identifier et de prioriser ses besoins de renforcement pour atteindre ses objectifs opérationnels et stratégiques. Il est important de noter que ce diagnostic n'a pas pour vocation de remplacer ou d'équivaloir à une procédure de diligence raisonnable. Il vise plutôt à résumer les principales recommandations et à fournir une vue d'ensemble des capacités organisationnelles, facilitant ainsi la prise de décision et l'amélioration continue. Cela implique de développer les systèmes et les structures nécessaires pour soutenir la conception et la mise en œuvre des projets et programmes. | D14: The organisational capacity diagnostic enables the organisation to identify and prioritise its capacity-building needs to achieve its operational and strategic objectives. It is important to note that this diagnostic is not intended to replace or equate to a due diligence procedure. Rather, it aims to summarise the main recommendations and provide an overview of organisational capacities, thereby facilitating decision-making and continuous improvement. This involves developing the systems and structures necessary to support the design and implementation of projects and programmes.
A16: Les objectifs d'un diagnostic des capacités s'articulerent autour de: | D16: The objectives of a capability assessment would revolve around:
A17: 1. Découvrir le potentiel de l'organisation en comprenant mieux ses capacités et ses atouts uniques. | D17: 1. Discovering the organisation's potential by better understanding its capacities and unique strengths.
A18: 2. Vérifier les activités et les services que l'organisation offre afin d'améliorer les réponses aux besoins des bénéficiaires. | D18: 2. Reviewing the activities and services the organisation offers to improve responses to beneficiaries' needs.
A19: 3. Évaluer la gouvernance et les contrôles internes pour assurer une gestion efficace et transparente. | D19: 3. Evaluating governance and internal controls to ensure effective and transparent management.
A20: 4. Analyser la capacité à fournir une assistance et la stabilité financière pour garantir la durabilité des programmes. | D20: 4. Analysing the capacity to provide assistance and financial stability to ensure the sustainability of programmes.
A21: 5. Examiner les prestations en aval et les mesures de sauvegarde pour minimiser les risques et maximiser l'impact positif. | D21: 5. Examining downstream delivery and safeguarding measures to minimise risks and maximise positive impact.
A23: Quelques définitions | D23: Some definitions
A24: Planification stratégique : | B24: C'est une activité de gestion organisationnelle qui sert à établir des priorités, à concentrer l'énergie et les ressources, à renforcer les opérations, à s'assurer que les employés et les autres parties prenantes travaillent à atteindre des objectifs communs, à établir un accord autour des résultats escomptés et à ajuster l'orientation de l'organisation alors qu'elle réagit à un environnement changeant. | D24: Strategic planning : | E24: It is an organisational management activity that serves to set priorities, focus energy and resources, strengthen operations, ensure that employees and other stakeholders are working towards common goals, build agreement around desired outcomes, and adjust the organisation's direction as it responds to a changing environment.
A25: Planification opérationnelle | B25: C'est le processus de planification qui traduit les buts et objectifs stratégiques en objectifs pratiques. Il décrit les indicateurs de réussite et les conditions de réussite et explique comment ou quelle partie d'un plan stratégique sera mise en oeuvre pendant une certaine période de temps | D25: Operational planning | E25: It is the planning process that translates strategic goals and objectives into tactical targets. It describes the indicators of success and the conditions for success, and explains how or what part of a strategic plan will be implemented over a certain period of time.
A26: Plan de communication | B26: C'est un document qui guide les efforts d'une organisation pour communiquer en dehors de l'organisation elle-même. Il l'aide à concentrer ses efforts de communication et de sensibilisation sur la base d'un certain nombre d'objectifs découlant de la mission et les objectifs de l'organisation. | D26: Communication plan | E26: It is a document that guides an organisation's efforts to communicate outside the organisation itself. It helps it focus its communication and awareness-raising efforts on a number of objectives derived from the organisation's mission and goals.
A27: Gouvernance : | B27: La gouvernance de projet correspond aux cadres, fonctions et processus qui guident la gestion du projet. Elle permet un cadre decisionnel clair et robuste. La gouvernance d’une organisation, quant à elle, correspond au système par lequel une organisation prend des décisions et les applique en vue d'atteindre ses objectifs La gouvernance organisationnelle est donc indispensable à la gestion de projet car elle fournit le cadre et les mécanismes nécessaires pour s'assurer que les projets sont réalisés de manière efficace, efficiente et conforme aux objectifs stratégiques de l'organisation. | D27: Governance : | E27: Project governance corresponds to the frameworks, functions and processes that guide project management. It provides a clear and robust decision-making framework. Organizational governance, on the other hand, is the system by which an organization makes and implements decisions to achieve its objectives. Organizational governance is therefore essential to project management, as it provides the framework and mechanisms needed to ensure that projects are carried out effectively, efficiently and in line with the organization's strategic objectives.
A28: Gestion : | B28: Elle concerne le fonctionnement quotidien de l’organisation. | D28: Management : | E28: It's about the day-to-day running of the organisation.
A29: Mission : | B29: Parfois, ce qui lie les personnes d’une communauté est la croyance en une mission commune. Pour certains, cette croyance est la foi religieuse, pour d’autres cela peut être les liens de la communauté, la fierté nationale ou le patriotisme. Une forte croyance dans une mission est un élément motivateur important et peut souvent être plus puissante que l’argent pour accomplir des choses. | D29: Mission : | E29: Sometimes, what binds people together in a community is a belief in a common mission. For some, this belief is religious faith, for others it may be community ties, national pride or patriotism. A strong belief in a mission is an important motivator and can often be more powerful than money in getting things done.
A30: Administration d’une organisation | B30: C'est l’ensemble des activités et des procédures qui visent à assurer le bon fonctionnement, la conformité et la performance de l’organisation, qu’elle soit publique ou privée. L’administration comprend des domaines tels que la gestion financière, la gestion des ressources humaines, la gestion des documents, la gestion des projets, etc. | D30: Administration of an organisation | E30: Administration is the set of activities and procedures designed to ensure the smooth running, compliance and performance of an organisation, whether public or private. Administration encompasses areas such as financial management, human resources management, document management, project management and so on.
A31: Ressources humaines d’une organisation | B31: Ce sont les personnes qui contribuent à sa réalisation, son fonctionnement et son développement. La gestion des ressources humaines (GRH) est la fonction qui s’occupe de recruter, former, évaluer, motiver et fidéliser les employés. La GRH doit adapter les compétences, les besoins et les attentes des employés aux objectifs et aux valeurs de l’organisation. | D31: Human resources of an organisation | E31: These are the people who contribute to its realization, operation and development. Human Resources Management (HRM) is the function responsible for recruiting, training, evaluating, motivating and retaining employees. HRM must adapt employees' skills, needs and expectations to the organisation's objectives and values.
A32: Gestion organisationnelle | B32: C'est l’ensemble des méthodes et des outils qui visent à optimiser la performance, l’efficacité et l’adaptabilité de l’organisation. La gestion organisationnelle implique de définir la structure, les processus, les responsabilités et les relations au sein de l’organisation. La gestion organisationnelle doit aligner l’organisation sur sa stratégie, sa vision et sa culture | D32: Organisational management | E32: It is the set of methods and tools designed to optimise the organisation's performance, efficiency and adaptability. Organisational management involves defining the structure, processes, responsibilities and relationships within the organisation. Organisational management must align the organisation with its strategy, vision and culture.
A33: Gestion de projet et programme | B33: Elle consiste à planifier, organiser, diriger et contrôler des projets ou des programmes, c’est-à-dire des ensembles de projets connexes visant un objectif commun. Elle implique de définir le périmètre, les ressources, les délais, les risques, la qualité et la communication des projets ou des programmes. Elle requiert des compétences techniques, managériales et relationnelles. | D33: Project and program management | E33: It consists in planning, organising, directing and controlling projects or programs, i.e. sets of related projects aimed at a common goal. It involves defining the scope, resources, deadlines, risks, quality and communication of projects or programs. It requires technical, managerial and interpersonal skills.
A34: Gestion des performances du projet | B34: C'est le processus qui consiste à mesurer et à évaluer la progression, la qualité et la rentabilité du projet par rapport aux objectifs fixés. La gestion des performances du projet implique de définir des indicateurs de performance clés (KPI), de collecter des données, de réaliser des analyses et de produire des rapports. La gestion des performances du projet permet de contrôler le projet, d’identifier les écarts, de prendre des décisions et d’améliorer les résultats. | D34: Project performance management | E34: It is the process of measuring and evaluating the progress, quality and profitability of the project in relation to the objectives set. Project performance management involves defining key performance indicators (KPIs), collecting data, carrying out analyses and producing reports. Project performance management enables you to monitor the project, identify deviations, make decisions and improve results.
A35: Gouvernance et Contrôles Internes | B35: La gouvernance et les contrôles internes impliquent la compréhension de la structure, de la direction et des mécanismes de contrôle d'une organisation. Cela inclut la manière dont l'organisation est gérée, supervisée, et comment la gestion des risques est intégrée dans ses opérations. Cela garantit que la gouvernance est effectivement mise en œuvre dans le contexte opérationnel du programme. | D35: Governance and Internal Controls | E35: Governance and Internal Control involve understanding the structure, direction, and control mechanisms of an organization. This includes how the organization is managed, overseen, and how risk management is embedded within its operations. It ensures that governance is effectively implemented in the operational context of the program.
... A39: Mesures de sauvegarde | B39: Les mesures de sauvegarde garantissent que les interventions du programme ne causent pas involontairement de tort aux personnes ou à l'environnement. Cela implique la mise en place de mesures appropriées pour prévenir, détecter, répondre et signaler les incidents de sauvegarde. Cela inclut les politiques, la culture, les processus, les méthodes de consultation, les procédures de signalement, les codes de conduite et les capacités de sauvegarde au sein des partenaires en aval. | D39: Safeguarding | E39: Safeguarding ensures that program interventions do not inadvertently cause harm to people or the environment. This involves having appropriate measures to prevent, detect, respond to, and report safeguarding incidents. It includes policies, culture, processes, consultation methods, whistleblowing procedures, codes of conduct, and safeguarding capacities within downstream partners.

Sheet 1 - Outil - Diagnostic
B3: Nom de l'organisation / name of organisation :
D4: Baseline | G4: Midline | J4: Endline
B5: Question | D5: Oui/Yes Non/No | E5: Valeur/Value (0 ou/or 1) | F5: Commentaire/Comment | G5: Oui/Yes Non/No | H5: Valeur/Value (0 ou/or 1) | I5: Commentaire/Comment | J5: Oui/Yes Non/No | K5: Valeur/Value (0 ou/or 1) | L5: Commentaire/Comment
A6: 1. Gouvernance et Contrôles Internes | C6: Governance and Internal Controls | F6: =(SUM(E7:E22))/(COUNTA(E7:E22)) -> 0 | I6: =(SUM(H7:H22))/(COUNTA(H7:H22)) -> 0 | L6: =(SUM(K7:K22))/(COUNTA(K7:K22)) -> 0
A7: 1 | B7: Avez-vous une déclaration de vision, mission ou valeurs caractérisant votre organisation ? | C7: Do you have a vision, mission, or values statement characterizing your organization? | E7: =IF(D7="Oui/Yes",1,0) -> 0 | H7: =IF(G7="Oui/Yes",1,0) -> 0 | K7: =IF(J7="Oui/Yes",1,0) -> 0
A8: 2 | B8: Avez-vous des objectifs et/ou priorités stratégiques en adéquation avec la vision/mission énoncée ? | C8: Do you have strategic objectives and/or priorities aligned with the stated vision/mission? | E8: =IF(D8="Oui/Yes",1,0) -> 0 | H8: =IF(G8="Oui/Yes",1,0) -> 0 | K8: =IF(J8="Oui/Yes",1,0) -> 0
A9: 3 | B9: L'organisation a-t-elle une structure de gouvernance clairement définie ? | C9: Does the organization have a clearly defined governance structure? | E9: =IF(D9="Oui/Yes",1,0) -> 0 | H9: =IF(G9="Oui/Yes",1,0) -> 0 | K9: =IF(J9="Oui/Yes",1,0) -> 0
A10: 4 | B10: L'organisation est-elle légalement enregsitrée et possède-t-elle tous les documents pour être opérationnelle dans ses zones d'intervention ? | C10: Is the organization legally registered and does it possess all the necessary documents to operate in its areas of intervention? | E10: =IF(D10="Oui/Yes",1,0) -> 0 | H10: =IF(G10="Oui/Yes",1,0) -> 0 | K10: =IF(J10="Oui/Yes",1,0) -> 0
A11: 5 | B11: Existe-t-il des protocoles de gestion des conflits d'intérêts ? | C11: Are there protocols for managing conflicts of interest? | E11: =IF(D11="Oui/Yes",1,0) -> 0 | H11: =IF(G11="Oui/Yes",1,0) -> 0 | K11: =IF(J11="Oui/Yes",1,0) -> 0
A12: 6 | B12: Avez-vous un Conseil d’administration ou un Conseil d’administrateurs ? | C12: Do you have a Board of Directors or a Board of Trustees? | E12: =IF(D12="Oui/Yes",1,0) -> 0 | H12: =IF(G12="Oui/Yes",1,0) -> 0 | K12: =IF(J12="Oui/Yes",1,0) -> 0
A13: 7 | B13: Les membres sont-ils approuvé via une élection , et pour un mandat à durée déterminée ? | C13: Are the members approved through an election, and for a fixed term? | E13: =IF(D13="Oui/Yes",1,0) -> 0 | H13: =IF(G13="Oui/Yes",1,0) -> 0 | K13: =IF(J13="Oui/Yes",1,0) -> 0
A14: 8 | B14: Les membres du Conseil se réunissent-ils régulièrement et à quelles fins ? | C14: Do the Board members meet regularly, and for what purposes? | E14: =IF(D14="Oui/Yes",1,0) -> 0 | H14: =IF(G14="Oui/Yes",1,0) -> 0 | K14: =IF(J14="Oui/Yes",1,0) -> 0
A15: 9 | B15: Les membres du Conseil ont-ils des termes de référence écrits détaillant leurs responsabilités et clairement différencié du rôle de la direction exécutive ? | C15: Do the Board members have written terms of reference detailing their responsibilities and clearly differentiated from the role of the executive management? | E15: =IF(D15="Oui/Yes",1,0) -> 0 | H15: =IF(G15="Oui/Yes",1,0) -> 0 | K15: =IF(J15="Oui/Yes",1,0) -> 0
A16: 10 | B16: L'organisation dispose-t-elle d'une structure de gestion des risques intégrée dans toutes ses opérations ? | C16: Does the organization have a risk management structure integrated into all its operations? | E16: =IF(D16="Oui/Yes",1,0) -> 0 | H16: =IF(G16="Oui/Yes",1,0) -> 0 | K16: =IF(J16="Oui/Yes",1,0) -> 0
A17: 11 | B17: Existe-t-il un système de gestion de la performance pour le personnel et les programmes ? | C17: Is there a performance management system for staff and programs? | E17: =IF(D17="Oui/Yes",1,0) -> 0 | H17: =IF(G17="Oui/Yes",1,0) -> 0 | K17: =IF(J17="Oui/Yes",1,0) -> 0
A18: 12 | B18: L'organisation a-t-elle une structure d'audit interne et une approche claire pour les audits ? | C18: Does the organization have an internal audit structure and a clear approach for audits? | E18: =IF(D18="Oui/Yes",1,0) -> 0 | H18: =IF(G18="Oui/Yes",1,0) -> 0 | K18: =IF(J18="Oui/Yes",1,0) -> 0
... A22: 16 | B22: Existe-t-il des politiques de diversité et d'inclusion à travers l'organisation ? | C22: Are there diversity and inclusion policies across the organization? | E22: =IF(D22="Oui/Yes",1,0) -> 0 | H22: =IF(G22="Oui/Yes",1,0) -> 0 | K22: =IF(J22="Oui/Yes",1,0) -> 0
A23: 2. Capacité de mise en oeuvre | C23: Ability to Deliver | F23: =(SUM(E24:E35))/(COUNTA(E24:E35)) -> 0 | I23: =(SUM(H24:H35))/(COUNTA(H24:H35)) -> 0 | L23: =(SUM(K24:K35))/(COUNTA(K24:K35)) -> 0
A24: 17 | B24: Le personnel (salariés et volontaires) dispose-t-il des compétences requises pour la mise en œuvre des activités ? | C24: Does the staff (employees and volunteers) have the required skills for implementing activities? | E24: =IF(D24="Oui/Yes",1,0) -> 0 | H24: =IF(G24="Oui/Yes",1,0) -> 0 | K24: =IF(J24="Oui/Yes",1,0) -> 0
A25: 18 | B25: Avez-vous des politiques et procédures opérationnelles écrites ? | C25: Do you have written operational policies and procedures? | E25: =IF(D25="Oui/Yes",1,0) -> 0 | H25: =IF(G25="Oui/Yes",1,0) -> 0 | K25: =IF(J25="Oui/Yes",1,0) -> 0
A26: 19 | B26: Existe-t-il des processus d'engagement des parties prenantes, y compris l'engagement des bénéficiaires à toutes les étapes du projet ? | C26: Are there processes for engaging stakeholders, including beneficiary engagement at all stages of the project? | E26: =IF(D26="Oui/Yes",1,0) -> 0 | H26: =IF(G26="Oui/Yes",1,0) -> 0 | K26: =IF(J26="Oui/Yes",1,0) -> 0
A27: 20 | B27: L'organisation a-t-elle des protocoles de recrutement clairs et efficaces ? | C27: Does the organization have clear and effective recruitment protocols? | E27: =IF(D27="Oui/Yes",1,0) -> 0 | H27: =IF(G27="Oui/Yes",1,0) -> 0 | K27: =IF(J27="Oui/Yes",1,0) -> 0
A28: 21 | B28: Existe-t-il des systèmes de gestion de la performance pour le personnel ? | C28: Are there performance management systems for staff? | E28: =IF(D28="Oui/Yes",1,0) -> 0 | H28: =IF(G28="Oui/Yes",1,0) -> 0 | K28: =IF(J28="Oui/Yes",1,0) -> 0
A29: 22 | B29: Est-ce que vous disposez de normes de qualité pour suivre les processus de vos activités ? | C29: Do you have quality standards to follow the processes of your activities? | E29: =IF(D29="Oui/Yes",1,0) -> 0 | H29: =IF(G29="Oui/Yes",1,0) -> 0 | K29: =IF(J29="Oui/Yes",1,0) -> 0
A30: 23 | B30: L'organisation a-t-elle une stratégie de continuité/de sortie des activités en place ? | C30: Does the organization have a strategy for continuity/exit of activities in place? | E30: =IF(D30="Oui/Yes",1,0) -> 0 | H30: =IF(G30="Oui/Yes",1,0) -> 0 | K30: =IF(J30="Oui/Yes",1,0) -> 0
A31: 24 | B31: Disposez-vous d’un manuel de l’employé qui a été partagé avec tout le personnel ? | C31: Do you have an employee handbook that has been shared with all staff? | E31: =IF(D31="Oui/Yes",1,0) -> 0 | H31: =IF(G31="Oui/Yes",1,0) -> 0 | K31: =IF(J31="Oui/Yes",1,0) -> 0
A32: 25 | B32: Existe-t-il un manuel de politiques du personnel ? | C32: Is there a personnel policy manual? | E32: =IF(D32="Oui/Yes",1,0) -> 0 | H32: =IF(G32="Oui/Yes",1,0) -> 0 | K32: =IF(J32="Oui/Yes",1,0) -> 0
A33: 26 | B33: L'organisation a-t-elle des accords de collaboration avec les parties prenantes pertinentes de sa zone d'opération ? | C33: Does the organization have collaboration agreements with relevant stakeholders in its area of operation? | E33: =IF(D33="Oui/Yes",1,0) -> 0 | H33: =IF(G33="Oui/Yes",1,0) -> 0 | K33: =IF(J33="Oui/Yes",1,0) -> 0
A34: 27 | B34: Avez-vous un plan de suivi et d’évaluation ? | C34: Do you have a monitoring and evaluation plan? | E34: =IF(D34="Oui/Yes",1,0) -> 0 | H34: =IF(G34="Oui/Yes",1,0) -> 0 | K34: =IF(J34="Oui/Yes",1,0) -> 0
A35: 28 | B35: Les données de suivi-évaluation collectées sont-elles utilisées pour améliorer les performance, identifier les défis et axes d'amélioration ? | C35: Is the monitoring and evaluation data collected used to improve performance, identify challenges, and areas for improvement? | E35: =IF(D35="Oui/Yes",1,0) -> 0 | H35: =IF(G35="Oui/Yes",1,0) -> 0 | K35: =IF(J35="Oui/Yes",1,0) -> 0
A36: 3. Stabilité Financière | C36: Financial Stability | F36: =(SUM(E37:E43))/(COUNTA(E37:E43)) -> 0 | I36: =(SUM(H37:H43))/(COUNTA(H37:H43)) -> 0 | L36: =(SUM(K37:K43))/(COUNTA(K37:K43)) -> 0
A37: 29 | B37: L'organisation est-elle financièrement stable et capable de fournir des rapports financiers réguliers, opportuns, compréhensibles, complets et précis ? | C37: Is the organization financially stable and capable of providing regular, timely, understandable, complete, and accurate financial reports? | E37: =IF(D37="Oui/Yes",1,0) -> 0 | H37: =IF(G37="Oui/Yes",1,0) -> 0 | K37: =IF(J37="Oui/Yes",1,0) -> 0
A38: 30 | B38: Existe-t-il des processus de gestion des actifs et des stocks ? | C38: Are there processes for managing assets and inventory? | E38: =IF(D38="Oui/Yes",1,0) -> 0 | H38: =IF(G38="Oui/Yes",1,0) -> 0 | K38: =IF(J38="Oui/Yes",1,0) -> 0
A39: 31 | B39: L'organisation a-t-elle des processus d'achat clairs et efficaces ? | C39: Does the organization have clear and effective procurement processes? | E39: =IF(D39="Oui/Yes",1,0) -> 0 | H39: =IF(G39="Oui/Yes",1,0) -> 0 | K39: =IF(J39="Oui/Yes",1,0) -> 0
A40: 32 | B40: Existe-t-il des mécanismes de gestion des risques financiers ? | C40: Are there mechanisms for financial risk management? | E40: =IF(D40="Oui/Yes",1,0) -> 0 | H40: =IF(G40="Oui/Yes",1,0) -> 0 | K40: =IF(J40="Oui/Yes",1,0) -> 0
A41: 33 | B41: Existe-t-il une séparation des tâches pour les fonctions financières afin de minimiser les risques de fraude ou d'erreurs ? | C41: Is there a separation of duties for financial functions to minimize the risks of fraud or errors? | E41: =IF(D41="Oui/Yes",1,0) -> 0 | H41: =IF(G41="Oui/Yes",1,0) -> 0 | K41: =IF(J41="Oui/Yes",1,0) -> 0
A42: 34 | B42: Disposez-vous d’un système et de politiques de comptabilité opérationnel ? | C42: Do you have an operational accounting system and policies? | E42: =IF(D42="Oui/Yes",1,0) -> 0 | H42: =IF(G42="Oui/Yes",1,0) -> 0 | K42: =IF(J42="Oui/Yes",1,0) -> 0
A43: 35 | B43: L'organisation dispose t-elle de multiples sources de financement ? Qui permettent également de soutenir son fonctionnement general ? | C43: Does the organization have multiple sources of funding that also support its general operations? | E43: =IF(D43="Oui/Yes",1,0) -> 0 | H43: =IF(G43="Oui/Yes",1,0) -> 0 | K43: =IF(J43="Oui/Yes",1,0) -> 0
A44: 4. Prestations en aval | C44: Downstream Delivery | F44: =(SUM(E45:E50))/(COUNTA(E45:E50)) -> 0 | I44: =(SUM(H45:H50))/(COUNTA(H45:H50)) -> 0 | L44: =(SUM(K45:K50))/(COUNTA(K45:K50)) -> 0
A45: 36 | B45: L'organisation a-t-elle des critères et des processus de sélection clairs pour les partenaires en aval ? | C45: Does the organization have clear criteria and processes for selecting downstream partners? | E45: =IF(D45="Oui/Yes",1,0) -> 0 | H45: =IF(G45="Oui/Yes",1,0) -> 0 | K45: =IF(J45="Oui/Yes",1,0) -> 0
...

Sheet 2 - Analysis - Diagnostic
A4: Synthèse et recommandations / Summary & recommendations
D5: Baseline | E5: Midline | F5: Endline
A6: Dimensions | C6: Maximum | D6: Note Scoring | E6: Note Scoring | F6: Note Scoring | G6: Recommandations (à envisager dans le plan de renforcement des capacités) / Recommendations (to take into account in the Capacity Building Plan) | H6: Niveau de priorisation
B7: Gouvernance et Contrôles Internes Governance and Internal Controls | C7: 1 | D7: ='1 - Outil - Diagnostic'!F6 -> 0 | E7: ='1 - Outil - Diagnostic'!I6 -> 0 | F7: ='1 - Outil - Diagnostic'!L6 -> 0
B11: Capacité de mise en oeuvre Ability to Deliver | C11: 1 | D11: ='1 - Outil - Diagnostic'!F23 -> 0 | E11: ='1 - Outil - Diagnostic'!I23 -> 0 | F11: ='1 - Outil - Diagnostic'!L23 -> 0
B15: Stabilité Financière Financial Stability | C15: 1 | D15: ='1 - Outil - Diagnostic'!F36 -> 0 | E15: ='1 - Outil - Diagnostic'!I36 -> 0 | F15: ='1 - Outil - Diagnostic'!L36 -> 0
B19: Prestations en aval Downstream Delivery | C19: 1 | D19: ='1 - Outil - Diagnostic'!F44 -> 0 | E19: ='1 - Outil - Diagnostic'!I44 -> 0 | F19: ='1 - Outil - Diagnostic'!L44 -> 0
B23: Mesures de Sauvegarde Safeguarding | C23: 1 | D23: ='1 - Outil - Diagnostic'!F51 -> 0 | E23: ='1 - Outil - Diagnostic'!I51 -> 0 | F23: ='1 - Outil - Diagnostic'!L51 -> 0

Sheet 3 - Outil - Plan RC
C2: Nom de l'organisation :
B3: Plan de renforcement des capacités / Capacity strengthening plan
B4: Période couverte par le plan:
B5: Date de la dernière mise à jour :
B7: Dimension 1: Gouvernance et Contrôles Internes / Governance and Internal Controls
B8: Besoin identifié par les recommandations / Need identified from the recommendations | C8: Activité prévue / Activity planned | D8: Méthode & Modalité / Method & Modality | E8: Changement attendu / Expected change | F8: Détails des bénéficiaires de l'appui / Details of the beneficiaries from support | G8: Ressources non financières / Non financial resources | H8: Budget (XOF) | I8: Budget (GBP) | J8: Origine des ressources / Origin of resources | K8: Mesure de réussite de l'activité / Measure of success | L8: Cible / Target | M8: Sources de vérification / Means of verification | N8: Planification / Planning | O8: Statut / Status
B15: Budget Total Dimension | H15: =SUM(H9:H14) -> 0 | I15: =SUM(I9:I14) -> 0
B17: Dimension 2: Capacité de mise en œuvre / Ability to Deliver
B18: Besoin identifié par les recommandations / Need identified from the recommendations | C18: Activité prévue / Activity planned | D18: Méthode & Modalité / Method & Modality | E18: Changement attendu / Expected change | F18: Détails des bénéficiaires de l'appui / Details of the beneficiaries from support | G18: Ressources non financières / Non financial resources | H18: Budget (XOF) | I18: Budget (GBP) | J18: Origine des ressources / Origin of resources | K18: Mesure de réussite de l'activité / Measure of success | L18: Cible / Target | M18: Sources de vérification / Means of verification | N18: Planification / Planning | O18: Statut / Status
B25: Budget Total Dimension | H25: =SUM(H19:H24) -> 0 | I25: =SUM(I19:I24) -> 0
B27: Dimension 3: Stabilité Financière / Financial Stability
B28: Besoin identifié par les recommandations / Need identified from the recommendations | C28: Activité prévue / Activity planned | D28: Méthode & Modalité / Method & Modality | E28: Changement attendu / Expected change | F28: Détails des bénéficiaires de l'appui / Details of the beneficiaries from support | G28: Ressources non financières / Non financial resources | H28: Budget (XOF) | I28: Budget (GBP) | J28: Origine des ressources / Origin of resources | K28: Mesure de réussite de l'activité / Measure of success | L28: Cible / Target | M28: Sources de vérification / Means of verification | N28: Planification / Planning | O28: Statut / Status
B35: Budget Total Dimension | H35: =SUM(H29:H34) -> 0 | I35: =SUM(I29:I34) -> 0
B37: Dimension 4: Prestations en Aval / Downstream Delivery
B38: Besoin identifié par les recommandations / Need identified from the recommendations | C38: Activité prévue / Activity planned | D38: Méthode & Modalité / Method & Modality | E38: Changement attendu / Expected change | F38: Détails des bénéficiaires de l'appui / Details of the beneficiaries from support | G38: Ressources non financières / Non financial resources | H38: Budget (XOF) | I38: Budget (GBP) | J38: Origine des ressources / Origin of resources | K38: Mesure de réussite de l'activité / Measure of success | L38: Cible / Target | M38: Sources de vérification / Means of verification | N38: Planification / Planning | O38: Statut / Status
B45: Budget Total Dimension | H45: =SUM(H39:H44) -> 0 | I45: =SUM(I39:I44) -> 0
B47: Dimension 5: Mesures de Sauvegarde / Saveguarding
B48: Besoin identifié par les recommandations / Need identified from the recommendations | C48: Activité prévue / Activity planned | D48: Méthode & Modalité / Method & Modality | E48: Changement attendu / Expected change | F48: Détails des bénéficiaires de l'appui / Details of the beneficiaries from support | G48: Ressources non financières / Non financial resources | H48: Budget (XOF) | I48: Budget (GBP) | J48: Origine des ressources / Origin of resources | K48: Mesure de réussite de l'activité / Measure of success | L48: Cible / Target | M48: Sources de vérification / Means of verification | N48: Planification / Planning | O48: Statut / Status
B55: Budget Total Dimension | H55: =SUM(H49:H54) -> 0 | I55: =SUM(I49:I54) -> 0
B57: Budget Total du Plan

Sheet 4 - Planning - Plan RC
D2: Problème
D3: Réalisé
A4: PLANNING POUR LE PLAN DE RENFORCEMENT DES CAPACITES | D4: Programmé
C6: Année 1 | AY6: Année 2
A7: ACTIVITES | B7: Entité responsable | C7: Mois 1 | G7: Mois 2 | K7: Mois 3 | O7: Mois 4 | S7: Mois 5 | W7: Mois 6 | AA7: Mois 7 | AE7: Mois 8 | AI7: Mois 9 | AM7: Mois 10 | AQ7: Mois 11 | AU7: Mois 12 | AY7: Mois 1 | BC7: Mois 2 | BG7: Mois 3 | BK7: Mois 4 | BO7: Mois 5 | BS7: Mois 6 | BW7: Mois 7 | CA7: Mois 8 | CE7: Mois 9 | CI7: Mois 10 | CM7: Mois 11 | CQ7: Mois 12
C8: S1 | D8: S2 | E8: S3 | F8: S4 | G8: S1 | H8: S2 | I8: S3 | J8: S4 | K8: S1 | L8: S2 | M8: S3 | N8: S4 | O8: S1 | P8: S2 | Q8: S3 | R8: S4 | S8: S1 | T8: S2 | U8: S3 | V8: S4 | W8: S1 | X8: S2 | Y8: S3 | Z8: S4 | AA8: S1 | AB8: S2 | AC8: S3 | AD8: S4 | AE8: S1 | AF8: S2 | AG8: S3 | AH8: S4 | AI8: S1 | AJ8: S2 | AK8: S3 | AL8: S4 | AM8: S1 | AN8: S2 | AO8: S3 | AP8: S4 | AQ8: S1 | AR8: S2 | AS8: S3 | AT8: S4 | AU8: S1 | AV8: S2 | AW8: S3 | AX8: S4 | AY8: S1 | AZ8: S2 | BA8: S3 | BB8: S4 | BC8: S1 | BD8: S2 | BE8: S3 | BF8: S4 | BG8: S1 | BH8: S2 | BI8: S3 | BJ8: S4 | BK8: S1 | BL8: S2 | BM8: S3 | BN8: S4 | BO8: S1 | BP8: S2 | BQ8: S3 | BR8: S4 | BS8: S1 | BT8: S2 | BU8: S3 | BV8: S4 | BW8: S1 | BX8: S2 | BY8: S3 | BZ8: S4 | CA8: S1 | CB8: S2 | CC8: S3 | CD8: S4 | CE8: S1 | CF8: S2 | CG8: S3 | CH8: S4 | CI8: S1 | CJ8: S2 | CK8: S3 | CL8: S4 | CM8: S1 | CN8: S2 | CO8: S3 | CP8: S4 | CQ8: S1 | CR8: S2 | CS8: S3 | CT8: S4
A9: Activités préparatoires
A12: Dimension 1: Gouvernance et Contrôles Internes / Governance and Internal Controls
A21: Dimension 2: Capacité de mise en œuvre / Ability to Deliver
A28: Dimension 3: Stabilité Financière / Financial Stability
A37: Dimension 4: Partenaires en Aval / Downstream Delivery
A41: Dimension 5: Mesures de Sauvegarde / Saveguarding

Sheet 5 - Budget - Plan RC
B4: Budget pour le financement du plan de renforcement des capacités
C7: Période de dépense ? | D7: Montant prévu (in XOF) / Planned amount (in XOF) | E7: Montant dépensé (in XOF) / Spent amount (in XOF)
B8: Ressources ONG nom de l'organisation
B9: Ressources Bailleur XXX
B10: Ressources Projet YYY
B11: Ressources XX
B12: Ressources XX
B13: Ressources XX
B14: Ressources XX
B16: Total | D16: =SUM(D8:D14) -> 0 | E16: =SUM(E8:E14) -> 0

Sheet Feuil5
E3: Oui/Yes
E4: Non/No
D8: Maximum | E8: Baseline | F8: Midline | G8: Endline
C9: Gouvernance et Contrôles Internes Governance and Internal Controls | D9: 1 | E9: ='1 - Outil - Diagnostic'!F6 -> 0 | F9: ='1 - Outil - Diagnostic'!I6 -> 0 | G9: ='1 - Outil - Diagnostic'!L6 -> 0
C10: Capacité de mise en oeuvre Ability to Deliver | D10: 1 | E10: ='1 - Outil - Diagnostic'!F23 -> 0 | F10: ='1 - Outil - Diagnostic'!I23 -> 0 | G10: ='1 - Outil - Diagnostic'!L23 -> 0
C11: Stabilité Financière Financial Stability | D11: 1 | E11: ='1 - Outil - Diagnostic'!F36 -> 0 | F11: ='1 - Outil - Diagnostic'!I36 -> 0 | G11: ='1 - Outil - Diagnostic'!L36 -> 0
C12: Prestations en aval Downstream Delivery | D12: 1 | E12: ='1 - Outil - Diagnostic'!F44 -> 0 | F12: ='1 - Outil - Diagnostic'!I44 -> 0 | G12: ='1 - Outil - Diagnostic'!L44 -> 0
C13: Mesures de Sauvegarde Safeguarding | D13: 1 | E13: ='1 - Outil - Diagnostic'!F51 -> 0 | F13: ='1 - Outil - Diagnostic'!I51 -> 0 | G13: ='1 - Outil - Diagnostic'!L51 -> 0
