Workbook
Name Insta: Data!$B$3:$B$15
Name Q: Data!$H$3:$H$13
Name Quarter: Data!$B$3:$B$13
Name Quarters: Data!$G$3:$G$13

Sheet Intro
B2: Budget Introduction | R2: Budget Tool Instruction
R6: 1. Budget Lead and its consortium partners will develop their budget separetly. Forecast is needed at Proposal Stage
B8: Budget | C8: ='Budget Consortium'!B2 -> Lead Partner | E8: ='Budget Consortium'!B3 -> P1 | G8: ='Budget Consortium'!B4 -> P2 | I8: ='Budget Consortium'!B5 -> P3 | K8: Total | R8: 2. A template for the lead is provided but also for the Implementing partners. Informations from the IP could be then copy pasted into the lead one
B9: 1. Activities | C9: ='Budget Lead'!E3 -> 0 | D9: =IFERROR(C9/$C$16,0) -> 0 | E9: ='P1'!K9 -> 0 | F9: =IFERROR(E9/$E$16,0) -> 0 | G9: ='P2'!K9 -> 0 | H9: =IFERROR(G9/$G$16,0) -> 0 | I9: ='P3'!K9 -> 0 | J9: =IFERROR(I9/$I$16,0) -> 0 | K9: =C9+E9+G9+I9 -> 0 | L9: =IFERROR(K9/$K$16,0) -> 0
B10: 2. Capital | C10: ='Budget Lead'!F3 -> 0 | D10: =IFERROR(C10/$C$16,0) -> 0 | E10: ='P1'!K76 -> 0 | F10: =IFERROR(E10/$E$16,0) -> 0 | G10: ='P2'!K76 -> 0 | H10: =IFERROR(G10/$G$16,0) -> 0 | I10: ='P3'!K76 -> 0 | J10: =IFERROR(I10/$I$16,0) -> 0 | K10: =C10+E10+G10+I10 -> 0 | L10: =IFERROR(K10/$K$16,0) -> 0 | R10: 3. Budget Consortium Tab will populate automaticaly
B11: 3. Staff | C11: ='Budget Lead'!G3 -> 0 | D11: =IFERROR(C11/$C$16,0) -> 0 | E11: ='P1'!K87 -> 0 | F11: =IFERROR(E11/$E$16,0) -> 0 | G11: ='P2'!K87 -> 0 | H11: =IFERROR(G11/$G$16,0) -> 0 | I11: ='P3'!K87 -> 0 | J11: =IFERROR(I11/$I$16,0) -> 0 | K11: =C11+E11+G11+I11 -> 0 | L11: =IFERROR(K11/$K$16,0) -> 0 | R11: 4. Budget for Downstream partners will be included within the related consortium member but the details should be included in a new tab
B12: 4. Travel | C12: ='Budget Lead'!H3 -> 0 | D12: =IFERROR(C12/$C$16,0) -> 0 | E12: ='P1'!K132 -> 0 | F12: =IFERROR(E12/$E$16,0) -> 0 | G12: ='P2'!K132 -> 0 | H12: =IFERROR(G12/$G$16,0) -> 0 | I12: ='P3'!K132 -> 0 | J12: =IFERROR(I12/$I$16,0) -> 0 | K12: =C12+E12+G12+I12 -> 0 | L12: =IFERROR(K12/$K$16,0) -> 0
B13: 5. Office | C13: ='Budget Lead'!I3 -> 0 | D13: =IFERROR(C13/$C$16,0) -> 0 | E13: ='P1'!K166 -> 0 | F13: =IFERROR(E13/$E$16,0) -> 0 | G13: ='P2'!K166 -> 0 | H13: =IFERROR(G13/$G$16,0) -> 0 | I13: ='P3'!K166 -> 0 | J13: =IFERROR(I13/$I$16,0) -> 0 | K13: =C13+E13+G13+I13 -> 0 | L13: =IFERROR(K13/$K$16,0) -> 0 | R13: 5. Provide a financial narrative after the forecast
B14: 6. M&E | C14: ='Budget Lead'!J3 -> 0 | D14: =IFERROR(C14/$C$16,0) -> 0 | E14: ='P1'!K177 -> 0 | F14: =IFERROR(E14/$E$16,0) -> 0 | G14: ='P2'!K177 -> 0 | H14: =IFERROR(G14/$G$16,0) -> 0 | I14: ='P3'!K177 -> 0 | J14: =IFERROR(I14/$I$16,0) -> 0 | K14: =C14+E14+G14+I14 -> 0 | L14: =IFERROR(K14/$K$16,0) -> 0 | R14: 6. Please refer to the operation manual for further guidance
B15: Overhead | C15: ='Budget Lead'!K3 -> 0 | D15: =IFERROR(C15/$C$16,0) -> 0 | E15: ='P1'!K190 -> 0 | F15: =IFERROR(E15/$E$16,0) -> 0 | G15: ='P2'!K190 -> 0 | H15: =IFERROR(G15/$G$16,0) -> 0 | I15: ='P3'!K190 -> 0 | J15: =IFERROR(I15/$I$16,0) -> 0 | K15: =C15+E15+G15+I15 -> 0 | L15: =IFERROR(K15/$K$16,0) -> 0
B16: Total | C16: =SUM(C9:C15) -> 0 | E16: =SUM(E9:E15) -> 0 | G16: =SUM(G9:G15) -> 0 | I16: =SUM(I9:I15) -> 0 | K16: =SUM(C16:J16) -> 0
R18: Don't hesitate to contact Renaud if you need to adapt the template with additional consortia members or any other issue related to the budget (renaud.debergh@sahelregionalfund.org)

Sheet Budget Consortium
B1: Parameters | E1: Budget Summary
B2: ='Budget Lead'!B2 -> Lead Partner | C2: ='Budget Lead'!C3 -> 0 | E2: 1. Activities | F2: 2. Capital | G2: 3. Staff | H2: 4. Travel | I2: 5. Office | J2: 6. M&E | K2: NPAC | L2: Total
B3: ='P1'!B2 -> P1 | C3: ='P1'!C3 -> 0 | E3: =O10 -> 0 | F3: =O281 -> 0 | G3: =O326 -> 0 | H3: =O507 -> 0 | I3: =O643 -> 0 | J3: =O688 -> 0 | K3: =O735 -> 0 | L3: =SUM(E3:K3) -> 0
B4: ='P2'!B2 -> P2 | C4: ='P2'!C3 -> 0 | E4: =IFERROR(E3/$L$3,0) -> 0 | F4: =IFERROR(F3/$L$3,0) -> 0 | G4: =IFERROR(G3/$L$3,0) -> 0 | H4: =IFERROR(H3/$L$3,0) -> 0 | I4: =IFERROR(I3/$L$3,0) -> 0 | J4: =IFERROR(J3/$L$3,0) -> 0 | K4: =IFERROR(K3/$L$3,0) -> 0
B5: ='P3'!B2 -> P3 | C5: ='P3'!C3 -> 0
B6: Global Amount | C6: =SUM(C2:C5) -> 0
BB7: Expenses | BE7: Forecast | BH7: Expenses + Forecast
K8: Total | O8: Total | Q8: Quarter 1 | T8: Quarter 2 | W8: Quarter 3 | Z8: Quarter 4 | AC8: Quarter 5 | AF8: Quarter 6 | AI8: Quarter 7 | AL8: Quarter 8 | AO8: Quarter 9 | AR8: Quarter 10 | AU8: Quarter 11 | AX8: Quarter 12
B9: Code | D9: Nbr | E9: Unit | F9: Nbr 2 | G9: Unit 2 | H9: % Aloc | I9: Unit XOF | J9: Unit GBP | K9: =B2 -> Lead Partner | L9: =B3 -> P1 | M9: =B4 -> P2 | N9: =B5 -> P3 | Q9: 44927 | R9: 44958 | S9: 44986 | T9: 45017 | U9: 45047 | V9: 45078 | W9: 45108 | X9: 45139 | Y9: 45170 | Z9: 45200 | AA9: 45231 | AB9: 45261 | AC9: 45292 | AD9: 45323 | AE9: 45352 | AF9: 45383 | AG9: 45413 | AH9: 45444 | AI9: 45474 | AJ9: 45505 | AK9: 45536 | AL9: 45566 | AM9: 45597 | AN9: 45627 | AO9: 45658 | AP9: 45689 | AQ9: 45717 | AR9: 45748 | AS9: 45778 | AT9: 45809 | AU9: 45839 | AV9: 45870 | AW9: 45901 | AX9: 45931 | AY9: 45962 | AZ9: 45992 | BB9: Total | BC9: Rate | BE9: Total | BF9: Rate | BH9: Total | BI9: Rate
C10: 1. PROJECT ACTIVITIES | K10: =K11+K56+K101+K146+K191+K236 -> 0 | L10: =L11+L56+L101+L146+L191+L236 -> 0 | M10: =M11+M56+M101+M146+M191+M236 -> 0 | N10: =N11+N56+N101+N146+N191+N236 -> 0 | O10: =O11+O56+O101+O146+O191+O236 -> 0 | Q10: =Q11+Q56+Q101+Q146+Q191+Q236 -> 0 | R10: =R11+R56+R101+R146+R191+R236 -> 0 | S10: =S11+S56+S101+S146+S191+S236 -> 0 | T10: =T11+T56+T101+T146+T191+T236 -> 0 | U10: =U11+U56+U101+U146+U191+U236 -> 0 | V10: =V11+V56+V101+V146+V191+V236 -> 0 | W10: =W11+W56+W101+W146+W191+W236 -> 0 | X10: =X11+X56+X101+X146+X191+X236 -> 0 | ... AZ10: =AZ11+AZ56+AZ101+AZ146+AZ191+AZ236 -> 0 | BB10: =BB11+BB56+BB101+BB146+BB191+BB236 -> 0 | BC10: =BC11+BC56+BC101+BC146+BC191+BC236 -> 0 | BE10: =BE11+BE56+BE101+BE146+BE191+BE236 -> 0 | BF10: =IFERROR(BE10/O10,0) -> 0 | BH10: =BH11+BH56+BH101+BH146+BH191+BH236 -> 0 | BI10: =IFERROR(BH10/O10,0) -> 0
C11: 1.1. Cash | K11: =K12+K23+K34+K45 -> 0 | L11: =L12+L23+L34+L45 -> 0 | M11: =M12+M23+M34+M45 -> 0 | N11: =N12+N23+N34+N45 -> 0 | O11: =O12+O23+O34+O45 -> 0 | Q11: =Q12+Q23+Q34+Q45 -> 0 | R11: =R12+R23+R34+R45 -> 0 | S11: =S12+S23+S34+S45 -> 0 | T11: =T12+T23+T34+T45 -> 0 | U11: =U12+U23+U34+U45 -> 0 | V11: =V12+V23+V34+V45 -> 0 | W11: =W12+W23+W34+W45 -> 0 | X11: =X12+X23+X34+X45 -> 0 | ... AZ11: =AZ12+AZ23+AZ34+AZ45 -> 0 | BB11: =BB12+BB23+BB34+BB45 -> 0 | BE11: =BE12+BE23+BE34+BE45 -> 0 | BF11: =IFERROR(BE11/O11,0) -> 0 | BH11: =BH12+BH23+BH34+BH45 -> 0 | BI11: =IFERROR(BH11/O11,0) -> 0
C12: =B2 -> Lead Partner | K12: =SUM(K13:K22) -> 0 | L12: =SUM(L13:L22) -> 0 | M12: =SUM(M13:M22) -> 0 | N12: =SUM(N13:N22) -> 0 | O12: =SUM(O13:O22) -> 0 | Q12: =SUM(Q13:Q22) -> 0 | R12: =SUM(R13:R22) -> 0 | S12: =SUM(S13:S22) -> 0 | T12: =SUM(T13:T22) -> 0 | U12: =SUM(U13:U22) -> 0 | V12: =SUM(V13:V22) -> 0 | W12: =SUM(W13:W22) -> 0 | X12: =SUM(X13:X22) -> 0 | ... AZ12: =SUM(AZ13:AZ22) -> 0 | BB12: =SUM(BB13:BB22) -> 0 | BC12: =SUM(BC13:BC22) -> 0 | BE12: =SUM(BE13:BE22) -> 0 | BF12: =IFERROR(BE12/O12,0) -> 0 | BH12: =SUM(BH13:BH22) -> 0 | BI12: =IFERROR(BH12/O12,0) -> 0
B13: LP1101 | C13: =IFERROR(VLOOKUP(B13,'Budget Lead'!B:AQ,2,FALSE),0) -> 0 | D13: =IFERROR(VLOOKUP(B13,'Budget Lead'!B:AQ,3,FALSE),0) -> 0 | E13: =IFERROR(VLOOKUP($B13,'Budget Lead'!$B:$AQ,4,FALSE),0) -> 0 | F13: =IFERROR(VLOOKUP($B13,'Budget Lead'!$B:$AQ,5,FALSE),0) -> 0 | G13: =IFERROR(VLOOKUP($B13,'Budget Lead'!$B:$AQ,6,FALSE),0) -> 0 | H13: =IFERROR(VLOOKUP($B13,'Budget Lead'!$B:$AQ,7,FALSE),0) -> 0 | I13: =IFERROR(VLOOKUP($B13,'Budget Lead'!$B:$AQ,8,FALSE),0) -> 0 | J13: =IFERROR(VLOOKUP($B13,'Budget Lead'!$B:$AQ,9,FALSE),0) -> 0 | K13: =D13*F13*H13*J13 -> 0 | O13: =SUM(K13:N13) -> 0 | Q13: {=SUMPRODUCT(('Budget Lead'!$M$8:$AV$8=Q$9)*('Budget Lead'!$B$11:$B$190=$B13)*('Budget Lead'!$M$11:$AV$190)*1)} -> 0 | R13: {=SUMPRODUCT(('Budget Lead'!$M$8:$AV$8=R$9)*('Budget Lead'!$B$11:$B$190=$B13)*('Budget Lead'!$M$11:$AV$190)*1)} -> 0 | S13: {=SUMPRODUCT(('Budget Lead'!$M$8:$AV$8=S$9)*('Budget Lead'!$B$11:$B$190=$B13)*('Budget Lead'!$M$11:$AV$190)*1)} -> 0 | T13: {=SUMPRODUCT(('Budget Lead'!$M$8:$AV$8=T$9)*('Budget Lead'!$B$11:$B$190=$B13)*('Budget Lead'!$M$11:$AV$190)*1)} -> 0 | U13: {=SUMPRODUCT(('Budget Lead'!$M$8:$AV$8=U$9)*('Budget Lead'!$B$11:$B$190=$B13)*('Budget Lead'!$M$11:$AV$190)*1)} -> 0 | V13: {=SUMPRODUCT(('Budget Lead'!$M$8:$AV$8=V$9)*('Budget Lead'!$B$11:$B$190=$B13)*('Budget Lead'!$M$11:$AV$190)*1)} -> 0 | W13: {=SUMPRODUCT(('Budget Lead'!$M$8:$AV$8=W$9)*('Budget Lead'!$B$11:$B$190=$B13)*('Budget Lead'!$M$11:$AV$190)*1)} -> 0 | X13: {=SUMPRODUCT(('Budget Lead'!$M$8:$AV$8=X$9)*('Budget Lead'!$B$11:$B$190=$B13)*('Budget Lead'!$M$11:$AV$190)*1)} -> 0 | ... AZ13: {=SUMPRODUCT(('Budget Lead'!$M$8:$AV$8=AZ$9)*('Budget Lead'!$B$11:$B$190=$B13)*('Budget Lead'!$M$11:$AV$190)*1)} -> 0 | BE13: =SUM(Q13:AZ13) -> 0 | BF13: =IFERROR(BE13/O13,0) -> 0 | BH13: =BB13+BE13 -> 0 | BI13: =IFERROR(BH13/O13,0) -> 0
B14: LP1102 | C14: =IFERROR(VLOOKUP(B14,'Budget Lead'!B:AQ,2,FALSE),0) -> 0 | D14: =IFERROR(VLOOKUP(B14,'Budget Lead'!B:AQ,3,FALSE),0) -> 0 | E14: =IFERROR(VLOOKUP($B14,'Budget Lead'!$B:$AQ,4,FALSE),0) -> 0 | F14: =IFERROR(VLOOKUP($B14,'Budget Lead'!$B:$AQ,5,FALSE),0) -> 0 | G14: =IFERROR(VLOOKUP($B14,'Budget Lead'!$B:$AQ,6,FALSE),0) -> 0 | H14: =IFERROR(VLOOKUP($B14,'Budget Lead'!$B:$AQ,7,FALSE),0) -> 0 | I14: =IFERROR(VLOOKUP($B14,'Budget Lead'!$B:$AQ,8,FALSE),0) -> 0 | J14: =IFERROR(VLOOKUP($B14,'Budget Lead'!$B:$AQ,9,FALSE),0) -> 0 | K14: =D14*F14*H14*J14 -> 0 | O14: =SUM(K14:N14) -> 0 | Q14: {=SUMPRODUCT(('Budget Lead'!$M$8:$AV$8=Q$9)*('Budget Lead'!$B$11:$B$190=$B14)*('Budget Lead'!$M$11:$AV$190)*1)} -> 0 | R14: {=SUMPRODUCT(('Budget Lead'!$M$8:$AV$8=R$9)*('Budget Lead'!$B$11:$B$190=$B14)*('Budget Lead'!$M$11:$AV$190)*1)} -> 0 | S14: {=SUMPRODUCT(('Budget Lead'!$M$8:$AV$8=S$9)*('Budget Lead'!$B$11:$B$190=$B14)*('Budget Lead'!$M$11:$AV$190)*1)} -> 0 | T14: {=SUMPRODUCT(('Budget Lead'!$M$8:$AV$8=T$9)*('Budget Lead'!$B$11:$B$190=$B14)*('Budget Lead'!$M$11:$AV$190)*1)} -> 0 | U14: {=SUMPRODUCT(('Budget Lead'!$M$8:$AV$8=U$9)*('Budget Lead'!$B$11:$B$190=$B14)*('Budget Lead'!$M$11:$AV$190)*1)} -> 0 | V14: {=SUMPRODUCT(('Budget Lead'!$M$8:$AV$8=V$9)*('Budget Lead'!$B$11:$B$190=$B14)*('Budget Lead'!$M$11:$AV$190)*1)} -> 0 | W14: {=SUMPRODUCT(('Budget Lead'!$M$8:$AV$8=W$9)*('Budget Lead'!$B$11:$B$190=$B14)*('Budget Lead'!$M$11:$AV$190)*1)} -> 0 | X14: {=SUMPRODUCT(('Budget Lead'!$M$8:$AV$8=X$9)*('Budget Lead'!$B$11:$B$190=$B14)*('Budget Lead'!$M$11:$AV$190)*1)} -> 0 | ... AZ14: {=SUMPRODUCT(('Budget Lead'!$M$8:$AV$8=AZ$9)*('Budget Lead'!$B$11:$B$190=$B14)*('Budget Lead'!$M$11:$AV$190)*1)} -> 0 | BE14: =SUM(Q14:AZ14) -> 0 | BF14: =IFERROR(BE14/O14,0) -> 0 | BH14: =BB14+BE14 -> 0 | BI14: =IFERROR(BH14/O14,0) -> 0
B15: LP1103 | C15: =IFERROR(VLOOKUP(B15,'Budget Lead'!B:AQ,2,FALSE),0) -> 0 | D15: =IFERROR(VLOOKUP(B15,'Budget Lead'!B:AQ,3,FALSE),0) -> 0 | E15: =IFERROR(VLOOKUP($B15,'Budget Lead'!$B:$AQ,4,FALSE),0) -> 0 | F15: =IFERROR(VLOOKUP($B15,'Budget Lead'!$B:$AQ,5,FALSE),0) -> 0 | G15: =IFERROR(VLOOKUP($B15,'Budget Lead'!$B:$AQ,6,FALSE),0) -> 0 | H15: =IFERROR(VLOOKUP($B15,'Budget Lead'!$B:$AQ,7,FALSE),0) -> 0 | I15: =IFERROR(VLOOKUP($B15,'Budget Lead'!$B:$AQ,8,FALSE),0) -> 0 | J15: =IFERROR(VLOOKUP($B15,'Budget Lead'!$B:$AQ,9,FALSE),0) -> 0 | K15: =D15*F15*H15*J15 -> 0 | O15: =SUM(K15:N15) -> 0 | Q15: {=SUMPRODUCT(('Budget Lead'!$M$8:$AV$8=Q$9)*('Budget Lead'!$B$11:$B$190=$B15)*('Budget Lead'!$M$11:$AV$190)*1)} -> 0 | R15: {=SUMPRODUCT(('Budget Lead'!$M$8:$AV$8=R$9)*('Budget Lead'!$B$11:$B$190=$B15)*('Budget Lead'!$M$11:$AV$190)*1)} -> 0 | S15: {=SUMPRODUCT(('Budget Lead'!$M$8:$AV$8=S$9)*('Budget Lead'!$B$11:$B$190=$B15)*('Budget Lead'!$M$11:$AV$190)*1)} -> 0 | T15: {=SUMPRODUCT(('Budget Lead'!$M$8:$AV$8=T$9)*('Budget Lead'!$B$11:$B$190=$B15)*('Budget Lead'!$M$11:$AV$190)*1)} -> 0 | U15: {=SUMPRODUCT(('Budget Lead'!$M$8:$AV$8=U$9)*('Budget Lead'!$B$11:$B$190=$B15)*('Budget Lead'!$M$11:$AV$190)*1)} -> 0 | V15: {=SUMPRODUCT(('Budget Lead'!$M$8:$AV$8=V$9)*('Budget Lead'!$B$11:$B$190=$B15)*('Budget Lead'!$M$11:$AV$190)*1)} -> 0 | W15: {=SUMPRODUCT(('Budget Lead'!$M$8:$AV$8=W$9)*('Budget Lead'!$B$11:$B$190=$B15)*('Budget Lead'!$M$11:$AV$190)*1)} -> 0 | X15: {=SUMPRODUCT(('Budget Lead'!$M$8:$AV$8=X$9)*('Budget Lead'!$B$11:$B$190=$B15)*('Budget Lead'!$M$11:$AV$190)*1)} -> 0 | ... AZ15: {=SUMPRODUCT(('Budget Lead'!$M$8:$AV$8=AZ$9)*('Budget Lead'!$B$11:$B$190=$B15)*('Budget Lead'!$M$11:$AV$190)*1)} -> 0 | BE15: =SUM(Q15:AZ15) -> 0 | BF15: =IFERROR(BE15/O15,0) -> 0 | BH15: =BB15+BE15 -> 0 | BI15: =IFERROR(BH15/O15,0) -> 0
B16: LP1104 | C16: =IFERROR(VLOOKUP(B16,'Budget Lead'!B:AQ,2,FALSE),0) -> 0 | D16: =IFERROR(VLOOKUP(B16,'Budget Lead'!B:AQ,3,FALSE),0) -> 0 | E16: =IFERROR(VLOOKUP($B16,'Budget Lead'!$B:$AQ,4,FALSE),0) -> 0 | F16: =IFERROR(VLOOKUP($B16,'Budget Lead'!$B:$AQ,5,FALSE),0) -> 0 | G16: =IFERROR(VLOOKUP($B16,'Budget Lead'!$B:$AQ,6,FALSE),0) -> 0 | H16: =IFERROR(VLOOKUP($B16,'Budget Lead'!$B:$AQ,7,FALSE),0) -> 0 | I16: =IFERROR(VLOOKUP($B16,'Budget Lead'!$B:$AQ,8,FALSE),0) -> 0 | J16: =IFERROR(VLOOKUP($B16,'Budget Lead'!$B:$AQ,9,FALSE),0) -> 0 | K16: =D16*F16*H16*J16 -> 0 | O16: =SUM(K16:N16) -> 0 | Q16: {=SUMPRODUCT(('Budget Lead'!$M$8:$AV$8=Q$9)*('Budget Lead'!$B$11:$B$190=$B16)*('Budget Lead'!$M$11:$AV$190)*1)} -> 0 | R16: {=SUMPRODUCT(('Budget Lead'!$M$8:$AV$8=R$9)*('Budget Lead'!$B$11:$B$190=$B16)*('Budget Lead'!$M$11:$AV$190)*1)} -> 0 | S16: {=SUMPRODUCT(('Budget Lead'!$M$8:$AV$8=S$9)*('Budget Lead'!$B$11:$B$190=$B16)*('Budget Lead'!$M$11:$AV$190)*1)} -> 0 | T16: {=SUMPRODUCT(('Budget Lead'!$M$8:$AV$8=T$9)*('Budget Lead'!$B$11:$B$190=$B16)*('Budget Lead'!$M$11:$AV$190)*1)} -> 0 | U16: {=SUMPRODUCT(('Budget Lead'!$M$8:$AV$8=U$9)*('Budget Lead'!$B$11:$B$190=$B16)*('Budget Lead'!$M$11:$AV$190)*1)} -> 0 | V16: {=SUMPRODUCT(('Budget Lead'!$M$8:$AV$8=V$9)*('Budget Lead'!$B$11:$B$190=$B16)*('Budget Lead'!$M$11:$AV$190)*1)} -> 0 | W16: {=SUMPRODUCT(('Budget Lead'!$M$8:$AV$8=W$9)*('Budget Lead'!$B$11:$B$190=$B16)*('Budget Lead'!$M$11:$AV$190)*1)} -> 0 | X16: {=SUMPRODUCT(('Budget Lead'!$M$8:$AV$8=X$9)*('Budget Lead'!$B$11:$B$190=$B16)*('Budget Lead'!$M$11:$AV$190)*1)} -> 0 | ... AZ16: {=SUMPRODUCT(('Budget Lead'!$M$8:$AV$8=AZ$9)*('Budget Lead'!$B$11:$B$190=$B16)*('Budget Lead'!$M$11:$AV$190)*1)} -> 0 | BE16: =SUM(Q16:AZ16) -> 0 | BF16: =IFERROR(BE16/O16,0) -> 0 | BH16: =BB16+BE16 -> 0 | BI16: =IFERROR(BH16/O16,0) -> 0
B17: LP1105 | C17: =IFERROR(VLOOKUP(B17,'Budget Lead'!B:AQ,2,FALSE),0) -> 0 | D17: =IFERROR(VLOOKUP(B17,'Budget Lead'!B:AQ,3,FALSE),0) -> 0 | E17: =IFERROR(VLOOKUP($B17,'Budget Lead'!$B:$AQ,4,FALSE),0) -> 0 | F17: =IFERROR(VLOOKUP($B17,'Budget Lead'!$B:$AQ,5,FALSE),0) -> 0 | G17: =IFERROR(VLOOKUP($B17,'Budget Lead'!$B:$AQ,6,FALSE),0) -> 0 | H17: =IFERROR(VLOOKUP($B17,'Budget Lead'!$B:$AQ,7,FALSE),0) -> 0 | I17: =IFERROR(VLOOKUP($B17,'Budget Lead'!$B:$AQ,8,FALSE),0) -> 0 | J17: =IFERROR(VLOOKUP($B17,'Budget Lead'!$B:$AQ,9,FALSE),0) -> 0 | K17: =D17*F17*H17*J17 -> 0 | O17: =SUM(K17:N17) -> 0 | Q17: {=SUMPRODUCT(('Budget Lead'!$M$8:$AV$8=Q$9)*('Budget Lead'!$B$11:$B$190=$B17)*('Budget Lead'!$M$11:$AV$190)*1)} -> 0 | R17: {=SUMPRODUCT(('Budget Lead'!$M$8:$AV$8=R$9)*('Budget Lead'!$B$11:$B$190=$B17)*('Budget Lead'!$M$11:$AV$190)*1)} -> 0 | S17: {=SUMPRODUCT(('Budget Lead'!$M$8:$AV$8=S$9)*('Budget Lead'!$B$11:$B$190=$B17)*('Budget Lead'!$M$11:$AV$190)*1)} -> 0 | T17: {=SUMPRODUCT(('Budget Lead'!$M$8:$AV$8=T$9)*('Budget Lead'!$B$11:$B$190=$B17)*('Budget Lead'!$M$11:$AV$190)*1)} -> 0 | U17: {=SUMPRODUCT(('Budget Lead'!$M$8:$AV$8=U$9)*('Budget Lead'!$B$11:$B$190=$B17)*('Budget Lead'!$M$11:$AV$190)*1)} -> 0 | V17: {=SUMPRODUCT(('Budget Lead'!$M$8:$AV$8=V$9)*('Budget Lead'!$B$11:$B$190=$B17)*('Budget Lead'!$M$11:$AV$190)*1)} -> 0 | W17: {=SUMPRODUCT(('Budget Lead'!$M$8:$AV$8=W$9)*('Budget Lead'!$B$11:$B$190=$B17)*('Budget Lead'!$M$11:$AV$190)*1)} -> 0 | X17: {=SUMPRODUCT(('Budget Lead'!$M$8:$AV$8=X$9)*('Budget Lead'!$B$11:$B$190=$B17)*('Budget Lead'!$M$11:$AV$190)*1)} -> 0 | ... AZ17: {=SUMPRODUCT(('Budget Lead'!$M$8:$AV$8=AZ$9)*('Budget Lead'!$B$11:$B$190=$B17)*('Budget Lead'!$M$11:$AV$190)*1)} -> 0 | BE17: =SUM(Q17:AZ17) -> 0 | BF17: =IFERROR(BE17/O17,0) -> 0 | BH17: =BB17+BE17 -> 0 | BI17: =IFERROR(BH17/O17,0) -> 0
B18: LP1106 | C18: =IFERROR(VLOOKUP(B18,'Budget Lead'!B:AQ,2,FALSE),0) -> 0 | D18: =IFERROR(VLOOKUP(B18,'Budget Lead'!B:AQ,3,FALSE),0) -> 0 | E18: =IFERROR(VLOOKUP($B18,'Budget Lead'!$B:$AQ,4,FALSE),0) -> 0 | F18: =IFERROR(VLOOKUP($B18,'Budget Lead'!$B:$AQ,5,FALSE),0) -> 0 | G18: =IFERROR(VLOOKUP($B18,'Budget Lead'!$B:$AQ,6,FALSE),0) -> 0 | H18: =IFERROR(VLOOKUP($B18,'Budget Lead'!$B:$AQ,7,FALSE),0) -> 0 | I18: =IFERROR(VLOOKUP($B18,'Budget Lead'!$B:$AQ,8,FALSE),0) -> 0 | J18: =IFERROR(VLOOKUP($B18,'Budget Lead'!$B:$AQ,9,FALSE),0) -> 0 | K18: =D18*F18*H18*J18 -> 0 | O18: =SUM(K18:N18) -> 0 | Q18: {=SUMPRODUCT(('Budget Lead'!$M$8:$AV$8=Q$9)*('Budget Lead'!$B$11:$B$190=$B18)*('Budget Lead'!$M$11:$AV$190)*1)} -> 0 | R18: {=SUMPRODUCT(('Budget Lead'!$M$8:$AV$8=R$9)*('Budget Lead'!$B$11:$B$190=$B18)*('Budget Lead'!$M$11:$AV$190)*1)} -> 0 | S18: {=SUMPRODUCT(('Budget Lead'!$M$8:$AV$8=S$9)*('Budget Lead'!$B$11:$B$190=$B18)*('Budget Lead'!$M$11:$AV$190)*1)} -> 0 | T18: {=SUMPRODUCT(('Budget Lead'!$M$8:$AV$8=T$9)*('Budget Lead'!$B$11:$B$190=$B18)*('Budget Lead'!$M$11:$AV$190)*1)} -> 0 | U18: {=SUMPRODUCT(('Budget Lead'!$M$8:$AV$8=U$9)*('Budget Lead'!$B$11:$B$190=$B18)*('Budget Lead'!$M$11:$AV$190)*1)} -> 0 | V18: {=SUMPRODUCT(('Budget Lead'!$M$8:$AV$8=V$9)*('Budget Lead'!$B$11:$B$190=$B18)*('Budget Lead'!$M$11:$AV$190)*1)} -> 0 | W18: {=SUMPRODUCT(('Budget Lead'!$M$8:$AV$8=W$9)*('Budget Lead'!$B$11:$B$190=$B18)*('Budget Lead'!$M$11:$AV$190)*1)} -> 0 | X18: {=SUMPRODUCT(('Budget Lead'!$M$8:$AV$8=X$9)*('Budget Lead'!$B$11:$B$190=$B18)*('Budget Lead'!$M$11:$AV$190)*1)} -> 0 | ... AZ18: {=SUMPRODUCT(('Budget Lead'!$M$8:$AV$8=AZ$9)*('Budget Lead'!$B$11:$B$190=$B18)*('Budget Lead'!$M$11:$AV$190)*1)} -> 0 | BE18: =SUM(Q18:AZ18) -> 0 | BF18: =IFERROR(BE18/O18,0) -> 0 | BH18: =BB18+BE18 -> 0 | BI18: =IFERROR(BH18/O18,0) -> 0
B19: LP1107 | C19: =IFERROR(VLOOKUP(B19,'Budget Lead'!B:AQ,2,FALSE),0) -> 0 | D19: =IFERROR(VLOOKUP(B19,'Budget Lead'!B:AQ,3,FALSE),0) -> 0 | E19: =IFERROR(VLOOKUP($B19,'Budget Lead'!$B:$AQ,4,FALSE),0) -> 0 | F19: =IFERROR(VLOOKUP($B19,'Budget Lead'!$B:$AQ,5,FALSE),0) -> 0 | G19: =IFERROR(VLOOKUP($B19,'Budget Lead'!$B:$AQ,6,FALSE),0) -> 0 | H19: =IFERROR(VLOOKUP($B19,'Budget Lead'!$B:$AQ,7,FALSE),0) -> 0 | I19: =IFERROR(VLOOKUP($B19,'Budget Lead'!$B:$AQ,8,FALSE),0) -> 0 | J19: =IFERROR(VLOOKUP($B19,'Budget Lead'!$B:$AQ,9,FALSE),0) -> 0 | K19: =D19*F19*H19*J19 -> 0 | O19: =SUM(K19:N19) -> 0 | Q19: {=SUMPRODUCT(('Budget Lead'!$M$8:$AV$8=Q$9)*('Budget Lead'!$B$11:$B$190=$B19)*('Budget Lead'!$M$11:$AV$190)*1)} -> 0 | R19: {=SUMPRODUCT(('Budget Lead'!$M$8:$AV$8=R$9)*('Budget Lead'!$B$11:$B$190=$B19)*('Budget Lead'!$M$11:$AV$190)*1)} -> 0 | S19: {=SUMPRODUCT(('Budget Lead'!$M$8:$AV$8=S$9)*('Budget Lead'!$B$11:$B$190=$B19)*('Budget Lead'!$M$11:$AV$190)*1)} -> 0 | T19: {=SUMPRODUCT(('Budget Lead'!$M$8:$AV$8=T$9)*('Budget Lead'!$B$11:$B$190=$B19)*('Budget Lead'!$M$11:$AV$190)*1)} -> 0 | U19: {=SUMPRODUCT(('Budget Lead'!$M$8:$AV$8=U$9)*('Budget Lead'!$B$11:$B$190=$B19)*('Budget Lead'!$M$11:$AV$190)*1)} -> 0 | V19: {=SUMPRODUCT(('Budget Lead'!$M$8:$AV$8=V$9)*('Budget Lead'!$B$11:$B$190=$B19)*('Budget Lead'!$M$11:$AV$190)*1)} -> 0 | W19: {=SUMPRODUCT(('Budget Lead'!$M$8:$AV$8=W$9)*('Budget Lead'!$B$11:$B$190=$B19)*('Budget Lead'!$M$11:$AV$190)*1)} -> 0 | X19: {=SUMPRODUCT(('Budget Lead'!$M$8:$AV$8=X$9)*('Budget Lead'!$B$11:$B$190=$B19)*('Budget Lead'!$M$11:$AV$190)*1)} -> 0 | ... AZ19: {=SUMPRODUCT(('Budget Lead'!$M$8:$AV$8=AZ$9)*('Budget Lead'!$B$11:$B$190=$B19)*('Budget Lead'!$M$11:$AV$190)*1)} -> 0 | BE19: =SUM(Q19:AZ19) -> 0 | BF19: =IFERROR(BE19/O19,0) -> 0 | BH19: =BB19+BE19 -> 0 | BI19: =IFERROR(BH19/O19,0) -> 0
B20: LP1108 | C20: =IFERROR(VLOOKUP(B20,'Budget Lead'!B:AQ,2,FALSE),0) -> 0 | D20: =IFERROR(VLOOKUP(B20,'Budget Lead'!B:AQ,3,FALSE),0) -> 0 | E20: =IFERROR(VLOOKUP($B20,'Budget Lead'!$B:$AQ,4,FALSE),0) -> 0 | F20: =IFERROR(VLOOKUP($B20,'Budget Lead'!$B:$AQ,5,FALSE),0) -> 0 | G20: =IFERROR(VLOOKUP($B20,'Budget Lead'!$B:$AQ,6,FALSE),0) -> 0 | H20: =IFERROR(VLOOKUP($B20,'Budget Lead'!$B:$AQ,7,FALSE),0) -> 0 | I20: =IFERROR(VLOOKUP($B20,'Budget Lead'!$B:$AQ,8,FALSE),0) -> 0 | J20: =IFERROR(VLOOKUP($B20,'Budget Lead'!$B:$AQ,9,FALSE),0) -> 0 | K20: =D20*F20*H20*J20 -> 0 | O20: =SUM(K20:N20) -> 0 | Q20: {=SUMPRODUCT(('Budget Lead'!$M$8:$AV$8=Q$9)*('Budget Lead'!$B$11:$B$190=$B20)*('Budget Lead'!$M$11:$AV$190)*1)} -> 0 | R20: {=SUMPRODUCT(('Budget Lead'!$M$8:$AV$8=R$9)*('Budget Lead'!$B$11:$B$190=$B20)*('Budget Lead'!$M$11:$AV$190)*1)} -> 0 | S20: {=SUMPRODUCT(('Budget Lead'!$M$8:$AV$8=S$9)*('Budget Lead'!$B$11:$B$190=$B20)*('Budget Lead'!$M$11:$AV$190)*1)} -> 0 | T20: {=SUMPRODUCT(('Budget Lead'!$M$8:$AV$8=T$9)*('Budget Lead'!$B$11:$B$190=$B20)*('Budget Lead'!$M$11:$AV$190)*1)} -> 0 | U20: {=SUMPRODUCT(('Budget Lead'!$M$8:$AV$8=U$9)*('Budget Lead'!$B$11:$B$190=$B20)*('Budget Lead'!$M$11:$AV$190)*1)} -> 0 | V20: {=SUMPRODUCT(('Budget Lead'!$M$8:$AV$8=V$9)*('Budget Lead'!$B$11:$B$190=$B20)*('Budget Lead'!$M$11:$AV$190)*1)} -> 0 | W20: {=SUMPRODUCT(('Budget Lead'!$M$8:$AV$8=W$9)*('Budget Lead'!$B$11:$B$190=$B20)*('Budget Lead'!$M$11:$AV$190)*1)} -> 0 | X20: {=SUMPRODUCT(('Budget Lead'!$M$8:$AV$8=X$9)*('Budget Lead'!$B$11:$B$190=$B20)*('Budget Lead'!$M$11:$AV$190)*1)} -> 0 | ... AZ20: {=SUMPRODUCT(('Budget Lead'!$M$8:$AV$8=AZ$9)*('Budget Lead'!$B$11:$B$190=$B20)*('Budget Lead'!$M$11:$AV$190)*1)} -> 0 | BE20: =SUM(Q20:AZ20) -> 0 | BF20: =IFERROR(BE20/O20,0) -> 0 | BH20: =BB20+BE20 -> 0 | BI20: =IFERROR(BH20/O20,0) -> 0
B21: LP1109 | C21: =IFERROR(VLOOKUP(B21,'Budget Lead'!B:AQ,2,FALSE),0) -> 0 | D21: =IFERROR(VLOOKUP(B21,'Budget Lead'!B:AQ,3,FALSE),0) -> 0 | E21: =IFERROR(VLOOKUP($B21,'Budget Lead'!$B:$AQ,4,FALSE),0) -> 0 | F21: =IFERROR(VLOOKUP($B21,'Budget Lead'!$B:$AQ,5,FALSE),0) -> 0 | G21: =IFERROR(VLOOKUP($B21,'Budget Lead'!$B:$AQ,6,FALSE),0) -> 0 | H21: =IFERROR(VLOOKUP($B21,'Budget Lead'!$B:$AQ,7,FALSE),0) -> 0 | I21: =IFERROR(VLOOKUP($B21,'Budget Lead'!$B:$AQ,8,FALSE),0) -> 0 | J21: =IFERROR(VLOOKUP($B21,'Budget Lead'!$B:$AQ,9,FALSE),0) -> 0 | K21: =D21*F21*H21*J21 -> 0 | O21: =SUM(K21:N21) -> 0 | Q21: {=SUMPRODUCT(('Budget Lead'!$M$8:$AV$8=Q$9)*('Budget Lead'!$B$11:$B$190=$B21)*('Budget Lead'!$M$11:$AV$190)*1)} -> 0 | R21: {=SUMPRODUCT(('Budget Lead'!$M$8:$AV$8=R$9)*('Budget Lead'!$B$11:$B$190=$B21)*('Budget Lead'!$M$11:$AV$190)*1)} -> 0 | S21: {=SUMPRODUCT(('Budget Lead'!$M$8:$AV$8=S$9)*('Budget Lead'!$B$11:$B$190=$B21)*('Budget Lead'!$M$11:$AV$190)*1)} -> 0 | T21: {=SUMPRODUCT(('Budget Lead'!$M$8:$AV$8=T$9)*('Budget Lead'!$B$11:$B$190=$B21)*('Budget Lead'!$M$11:$AV$190)*1)} -> 0 | U21: {=SUMPRODUCT(('Budget Lead'!$M$8:$AV$8=U$9)*('Budget Lead'!$B$11:$B$190=$B21)*('Budget Lead'!$M$11:$AV$190)*1)} -> 0 | V21: {=SUMPRODUCT(('Budget Lead'!$M$8:$AV$8=V$9)*('Budget Lead'!$B$11:$B$190=$B21)*('Budget Lead'!$M$11:$AV$190)*1)} -> 0 | W21: {=SUMPRODUCT(('Budget Lead'!$M$8:$AV$8=W$9)*('Budget Lead'!$B$11:$B$190=$B21)*('Budget Lead'!$M$11:$AV$190)*1)} -> 0 | X21: {=SUMPRODUCT(('Budget Lead'!$M$8:$AV$8=X$9)*('Budget Lead'!$B$11:$B$190=$B21)*('Budget Lead'!$M$11:$AV$190)*1)} -> 0 | ... AZ21: {=SUMPRODUCT(('Budget Lead'!$M$8:$AV$8=AZ$9)*('Budget Lead'!$B$11:$B$190=$B21)*('Budget Lead'!$M$11:$AV$190)*1)} -> 0 | BE21: =SUM(Q21:AZ21) -> 0 | BF21: =IFERROR(BE21/O21,0) -> 0 | BH21: =BB21+BE21 -> 0 | BI21: =IFERROR(BH21/O21,0) -> 0
B22: LP1110 | C22: =IFERROR(VLOOKUP(B22,'Budget Lead'!B:AQ,2,FALSE),0) -> 0 | D22: =IFERROR(VLOOKUP(B22,'Budget Lead'!B:AQ,3,FALSE),0) -> 0 | E22: =IFERROR(VLOOKUP($B22,'Budget Lead'!$B:$AQ,4,FALSE),0) -> 0 | F22: =IFERROR(VLOOKUP($B22,'Budget Lead'!$B:$AQ,5,FALSE),0) -> 0 | G22: =IFERROR(VLOOKUP($B22,'Budget Lead'!$B:$AQ,6,FALSE),0) -> 0 | H22: =IFERROR(VLOOKUP($B22,'Budget Lead'!$B:$AQ,7,FALSE),0) -> 0 | I22: =IFERROR(VLOOKUP($B22,'Budget Lead'!$B:$AQ,8,FALSE),0) -> 0 | J22: =IFERROR(VLOOKUP($B22,'Budget Lead'!$B:$AQ,9,FALSE),0) -> 0 | K22: =D22*F22*H22*J22 -> 0 | O22: =SUM(K22:N22) -> 0 | Q22: {=SUMPRODUCT(('Budget Lead'!$M$8:$AV$8=Q$9)*('Budget Lead'!$B$11:$B$190=$B22)*('Budget Lead'!$M$11:$AV$190)*1)} -> 0 | R22: {=SUMPRODUCT(('Budget Lead'!$M$8:$AV$8=R$9)*('Budget Lead'!$B$11:$B$190=$B22)*('Budget Lead'!$M$11:$AV$190)*1)} -> 0 | S22: {=SUMPRODUCT(('Budget Lead'!$M$8:$AV$8=S$9)*('Budget Lead'!$B$11:$B$190=$B22)*('Budget Lead'!$M$11:$AV$190)*1)} -> 0 | T22: {=SUMPRODUCT(('Budget Lead'!$M$8:$AV$8=T$9)*('Budget Lead'!$B$11:$B$190=$B22)*('Budget Lead'!$M$11:$AV$190)*1)} -> 0 | U22: {=SUMPRODUCT(('Budget Lead'!$M$8:$AV$8=U$9)*('Budget Lead'!$B$11:$B$190=$B22)*('Budget Lead'!$M$11:$AV$190)*1)} -> 0 | V22: {=SUMPRODUCT(('Budget Lead'!$M$8:$AV$8=V$9)*('Budget Lead'!$B$11:$B$190=$B22)*('Budget Lead'!$M$11:$AV$190)*1)} -> 0 | W22: {=SUMPRODUCT(('Budget Lead'!$M$8:$AV$8=W$9)*('Budget Lead'!$B$11:$B$190=$B22)*('Budget Lead'!$M$11:$AV$190)*1)} -> 0 | X22: {=SUMPRODUCT(('Budget Lead'!$M$8:$AV$8=X$9)*('Budget Lead'!$B$11:$B$190=$B22)*('Budget Lead'!$M$11:$AV$190)*1)} -> 0 | ... AZ22: {=SUMPRODUCT(('Budget Lead'!$M$8:$AV$8=AZ$9)*('Budget Lead'!$B$11:$B$190=$B22)*('Budget Lead'!$M$11:$AV$190)*1)} -> 0 | BE22: =SUM(Q22:AZ22) -> 0 | BF22: =IFERROR(BE22/O22,0) -> 0 | BH22: =BB22+BE22 -> 0 | BI22: =IFERROR(BH22/O22,0) -> 0
C23: =B3 -> P1 | L23: =SUM(L24:L33) -> 0 | O23: =SUM(O24:O33) -> 0 | Q23: =SUM(Q24:Q33) -> 0 | R23: =SUM(R24:R33) -> 0 | S23: =SUM(S24:S33) -> 0 | T23: =SUM(T24:T33) -> 0 | U23: =SUM(U24:U33) -> 0 | V23: =SUM(V24:V33) -> 0 | W23: =SUM(W24:W33) -> 0 | X23: =SUM(X24:X33) -> 0 | ... AZ23: =SUM(AZ24:AZ33) -> 0 | BB23: =SUM(BB24:BB32) -> 0 | BE23: =SUM(BE24:BE33) -> 0 | BF23: =IFERROR(BE23/O23,0) -> 0 | BH23: =SUM(BH24:BH33) -> 0 | BI23: =IFERROR(BH23/O23,0) -> 0
B24: P11101 | C24: =IFERROR(VLOOKUP($B24,'P1'!$B:$AQ,2,FALSE),0) -> 0 | D24: =IFERROR(VLOOKUP($B24,'P1'!$B:$AQ,3,FALSE),0) -> 0 | E24: =IFERROR(VLOOKUP($B24,'P1'!$B:$AQ,4,FALSE),0) -> 0 | F24: =IFERROR(VLOOKUP($B24,'P1'!$B:$AQ,5,FALSE),0) -> 0 | G24: =IFERROR(VLOOKUP($B24,'P1'!$B:$AQ,6,FALSE),0) -> 0 | H24: =IFERROR(VLOOKUP($B24,'P1'!$B:$AQ,7,FALSE),0) -> 0 | I24: =IFERROR(VLOOKUP($B24,'P1'!$B:$AQ,8,FALSE),0) -> 0 | J24: =IFERROR(VLOOKUP($B24,'P1'!$B:$AQ,9,FALSE),0) -> 0 | L24: =J24*F24*H24*D24 -> 0 | O24: =SUM(K24:N24) -> 0 | Q24: {=SUMPRODUCT(('P1'!$M$8:$AV$8=Q$9)*('P1'!$B$11:$B$190=$B24)*('P1'!$M$11:$AV$190*1))} -> 0 | R24: {=SUMPRODUCT(('P1'!$M$8:$AV$8=R$9)*('P1'!$B$11:$B$190=$B24)*('P1'!$M$11:$AV$190*1))} -> 0 | S24: {=SUMPRODUCT(('P1'!$M$8:$AV$8=S$9)*('P1'!$B$11:$B$190=$B24)*('P1'!$M$11:$AV$190*1))} -> 0 | T24: {=SUMPRODUCT(('P1'!$M$8:$AV$8=T$9)*('P1'!$B$11:$B$190=$B24)*('P1'!$M$11:$AV$190*1))} -> 0 | U24: {=SUMPRODUCT(('P1'!$M$8:$AV$8=U$9)*('P1'!$B$11:$B$190=$B24)*('P1'!$M$11:$AV$190*1))} -> 0 | V24: {=SUMPRODUCT(('P1'!$M$8:$AV$8=V$9)*('P1'!$B$11:$B$190=$B24)*('P1'!$M$11:$AV$190*1))} -> 0 | W24: {=SUMPRODUCT(('P1'!$M$8:$AV$8=W$9)*('P1'!$B$11:$B$190=$B24)*('P1'!$M$11:$AV$190*1))} -> 0 | X24: {=SUMPRODUCT(('P1'!$M$8:$AV$8=X$9)*('P1'!$B$11:$B$190=$B24)*('P1'!$M$11:$AV$190*1))} -> 0 | ... AZ24: {=SUMPRODUCT(('P1'!$M$8:$AV$8=AZ$9)*('P1'!$B$11:$B$190=$B24)*('P1'!$M$11:$AV$190*1))} -> 0 | BE24: =SUM(Q24:AZ24) -> 0 | BF24: =IFERROR(BE24/O24,0) -> 0 | BH24: =BB24+BE24 -> 0 | BI24: =IFERROR(BH24/O24,0) -> 0
B25: P11102 | C25: =IFERROR(VLOOKUP($B25,'P1'!$B:$AQ,2,FALSE),0) -> 0 | D25: =IFERROR(VLOOKUP($B25,'P1'!$B:$AQ,3,FALSE),0) -> 0 | E25: =IFERROR(VLOOKUP($B25,'P1'!$B:$AQ,4,FALSE),0) -> 0 | F25: =IFERROR(VLOOKUP($B25,'P1'!$B:$AQ,5,FALSE),0) -> 0 | G25: =IFERROR(VLOOKUP($B25,'P1'!$B:$AQ,6,FALSE),0) -> 0 | H25: =IFERROR(VLOOKUP($B25,'P1'!$B:$AQ,7,FALSE),0) -> 0 | I25: =IFERROR(VLOOKUP($B25,'P1'!$B:$AQ,8,FALSE),0) -> 0 | J25: =IFERROR(VLOOKUP($B25,'P1'!$B:$AQ,9,FALSE),0) -> 0 | L25: =J25*F25*H25*D25 -> 0 | O25: =SUM(K25:N25) -> 0 | Q25: {=SUMPRODUCT(('P1'!$M$8:$AV$8=Q$9)*('P1'!$B$11:$B$190=$B25)*('P1'!$M$11:$AV$190*1))} -> 0 | R25: {=SUMPRODUCT(('P1'!$M$8:$AV$8=R$9)*('P1'!$B$11:$B$190=$B25)*('P1'!$M$11:$AV$190*1))} -> 0 | S25: {=SUMPRODUCT(('P1'!$M$8:$AV$8=S$9)*('P1'!$B$11:$B$190=$B25)*('P1'!$M$11:$AV$190*1))} -> 0 | T25: {=SUMPRODUCT(('P1'!$M$8:$AV$8=T$9)*('P1'!$B$11:$B$190=$B25)*('P1'!$M$11:$AV$190*1))} -> 0 | U25: {=SUMPRODUCT(('P1'!$M$8:$AV$8=U$9)*('P1'!$B$11:$B$190=$B25)*('P1'!$M$11:$AV$190*1))} -> 0 | V25: {=SUMPRODUCT(('P1'!$M$8:$AV$8=V$9)*('P1'!$B$11:$B$190=$B25)*('P1'!$M$11:$AV$190*1))} -> 0 | W25: {=SUMPRODUCT(('P1'!$M$8:$AV$8=W$9)*('P1'!$B$11:$B$190=$B25)*('P1'!$M$11:$AV$190*1))} -> 0 | X25: {=SUMPRODUCT(('P1'!$M$8:$AV$8=X$9)*('P1'!$B$11:$B$190=$B25)*('P1'!$M$11:$AV$190*1))} -> 0 | ... AZ25: {=SUMPRODUCT(('P1'!$M$8:$AV$8=AZ$9)*('P1'!$B$11:$B$190=$B25)*('P1'!$M$11:$AV$190*1))} -> 0 | BE25: =SUM(Q25:AZ25) -> 0 | BF25: =IFERROR(BE25/O25,0) -> 0 | BH25: =BB25+BE25 -> 0 | BI25: =IFERROR(BH25/O25,0) -> 0
B26: P11103 | C26: =IFERROR(VLOOKUP($B26,'P1'!$B:$AQ,2,FALSE),0) -> 0 | D26: =IFERROR(VLOOKUP($B26,'P1'!$B:$AQ,3,FALSE),0) -> 0 | E26: =IFERROR(VLOOKUP($B26,'P1'!$B:$AQ,4,FALSE),0) -> 0 | F26: =IFERROR(VLOOKUP($B26,'P1'!$B:$AQ,5,FALSE),0) -> 0 | G26: =IFERROR(VLOOKUP($B26,'P1'!$B:$AQ,6,FALSE),0) -> 0 | H26: =IFERROR(VLOOKUP($B26,'P1'!$B:$AQ,7,FALSE),0) -> 0 | I26: =IFERROR(VLOOKUP($B26,'P1'!$B:$AQ,8,FALSE),0) -> 0 | J26: =IFERROR(VLOOKUP($B26,'P1'!$B:$AQ,9,FALSE),0) -> 0 | L26: =J26*F26*H26*D26 -> 0 | O26: =SUM(K26:N26) -> 0 | Q26: {=SUMPRODUCT(('P1'!$M$8:$AV$8=Q$9)*('P1'!$B$11:$B$190=$B26)*('P1'!$M$11:$AV$190*1))} -> 0 | R26: {=SUMPRODUCT(('P1'!$M$8:$AV$8=R$9)*('P1'!$B$11:$B$190=$B26)*('P1'!$M$11:$AV$190*1))} -> 0 | S26: {=SUMPRODUCT(('P1'!$M$8:$AV$8=S$9)*('P1'!$B$11:$B$190=$B26)*('P1'!$M$11:$AV$190*1))} -> 0 | T26: {=SUMPRODUCT(('P1'!$M$8:$AV$8=T$9)*('P1'!$B$11:$B$190=$B26)*('P1'!$M$11:$AV$190*1))} -> 0 | U26: {=SUMPRODUCT(('P1'!$M$8:$AV$8=U$9)*('P1'!$B$11:$B$190=$B26)*('P1'!$M$11:$AV$190*1))} -> 0 | V26: {=SUMPRODUCT(('P1'!$M$8:$AV$8=V$9)*('P1'!$B$11:$B$190=$B26)*('P1'!$M$11:$AV$190*1))} -> 0 | W26: {=SUMPRODUCT(('P1'!$M$8:$AV$8=W$9)*('P1'!$B$11:$B$190=$B26)*('P1'!$M$11:$AV$190*1))} -> 0 | X26: {=SUMPRODUCT(('P1'!$M$8:$AV$8=X$9)*('P1'!$B$11:$B$190=$B26)*('P1'!$M$11:$AV$190*1))} -> 0 | ... AZ26: {=SUMPRODUCT(('P1'!$M$8:$AV$8=AZ$9)*('P1'!$B$11:$B$190=$B26)*('P1'!$M$11:$AV$190*1))} -> 0 | BE26: =SUM(Q26:AZ26) -> 0 | BF26: =IFERROR(BE26/O26,0) -> 0 | BH26: =BB26+BE26 -> 0 | BI26: =IFERROR(BH26/O26,0) -> 0
B27: P11104 | C27: =IFERROR(VLOOKUP($B27,'P1'!$B:$AQ,2,FALSE),0) -> 0 | D27: =IFERROR(VLOOKUP($B27,'P1'!$B:$AQ,3,FALSE),0) -> 0 | E27: =IFERROR(VLOOKUP($B27,'P1'!$B:$AQ,4,FALSE),0) -> 0 | F27: =IFERROR(VLOOKUP($B27,'P1'!$B:$AQ,5,FALSE),0) -> 0 | G27: =IFERROR(VLOOKUP($B27,'P1'!$B:$AQ,6,FALSE),0) -> 0 | H27: =IFERROR(VLOOKUP($B27,'P1'!$B:$AQ,7,FALSE),0) -> 0 | I27: =IFERROR(VLOOKUP($B27,'P1'!$B:$AQ,8,FALSE),0) -> 0 | J27: =IFERROR(VLOOKUP($B27,'P1'!$B:$AQ,9,FALSE),0) -> 0 | L27: =J27*F27*H27*D27 -> 0 | O27: =SUM(K27:N27) -> 0 | Q27: {=SUMPRODUCT(('P1'!$M$8:$AV$8=Q$9)*('P1'!$B$11:$B$190=$B27)*('P1'!$M$11:$AV$190*1))} -> 0 | R27: {=SUMPRODUCT(('P1'!$M$8:$AV$8=R$9)*('P1'!$B$11:$B$190=$B27)*('P1'!$M$11:$AV$190*1))} -> 0 | S27: {=SUMPRODUCT(('P1'!$M$8:$AV$8=S$9)*('P1'!$B$11:$B$190=$B27)*('P1'!$M$11:$AV$190*1))} -> 0 | T27: {=SUMPRODUCT(('P1'!$M$8:$AV$8=T$9)*('P1'!$B$11:$B$190=$B27)*('P1'!$M$11:$AV$190*1))} -> 0 | U27: {=SUMPRODUCT(('P1'!$M$8:$AV$8=U$9)*('P1'!$B$11:$B$190=$B27)*('P1'!$M$11:$AV$190*1))} -> 0 | V27: {=SUMPRODUCT(('P1'!$M$8:$AV$8=V$9)*('P1'!$B$11:$B$190=$B27)*('P1'!$M$11:$AV$190*1))} -> 0 | W27: {=SUMPRODUCT(('P1'!$M$8:$AV$8=W$9)*('P1'!$B$11:$B$190=$B27)*('P1'!$M$11:$AV$190*1))} -> 0 | X27: {=SUMPRODUCT(('P1'!$M$8:$AV$8=X$9)*('P1'!$B$11:$B$190=$B27)*('P1'!$M$11:$AV$190*1))} -> 0 | ... AZ27: {=SUMPRODUCT(('P1'!$M$8:$AV$8=AZ$9)*('P1'!$B$11:$B$190=$B27)*('P1'!$M$11:$AV$190*1))} -> 0 | BE27: =SUM(Q27:AZ27) -> 0 | BF27: =IFERROR(BE27/O27,0) -> 0 | BH27: =BB27+BE27 -> 0 | BI27: =IFERROR(BH27/O27,0) -> 0
B28: P11105 | C28: =IFERROR(VLOOKUP($B28,'P1'!$B:$AQ,2,FALSE),0) -> 0 | D28: =IFERROR(VLOOKUP($B28,'P1'!$B:$AQ,3,FALSE),0) -> 0 | E28: =IFERROR(VLOOKUP($B28,'P1'!$B:$AQ,4,FALSE),0) -> 0 | F28: =IFERROR(VLOOKUP($B28,'P1'!$B:$AQ,5,FALSE),0) -> 0 | G28: =IFERROR(VLOOKUP($B28,'P1'!$B:$AQ,6,FALSE),0) -> 0 | H28: =IFERROR(VLOOKUP($B28,'P1'!$B:$AQ,7,FALSE),0) -> 0 | I28: =IFERROR(VLOOKUP($B28,'P1'!$B:$AQ,8,FALSE),0) -> 0 | J28: =IFERROR(VLOOKUP($B28,'P1'!$B:$AQ,9,FALSE),0) -> 0 | L28: =J28*F28*H28*D28 -> 0 | O28: =SUM(K28:N28) -> 0 | Q28: {=SUMPRODUCT(('P1'!$M$8:$AV$8=Q$9)*('P1'!$B$11:$B$190=$B28)*('P1'!$M$11:$AV$190*1))} -> 0 | R28: {=SUMPRODUCT(('P1'!$M$8:$AV$8=R$9)*('P1'!$B$11:$B$190=$B28)*('P1'!$M$11:$AV$190*1))} -> 0 | S28: {=SUMPRODUCT(('P1'!$M$8:$AV$8=S$9)*('P1'!$B$11:$B$190=$B28)*('P1'!$M$11:$AV$190*1))} -> 0 | T28: {=SUMPRODUCT(('P1'!$M$8:$AV$8=T$9)*('P1'!$B$11:$B$190=$B28)*('P1'!$M$11:$AV$190*1))} -> 0 | U28: {=SUMPRODUCT(('P1'!$M$8:$AV$8=U$9)*('P1'!$B$11:$B$190=$B28)*('P1'!$M$11:$AV$190*1))} -> 0 | V28: {=SUMPRODUCT(('P1'!$M$8:$AV$8=V$9)*('P1'!$B$11:$B$190=$B28)*('P1'!$M$11:$AV$190*1))} -> 0 | W28: {=SUMPRODUCT(('P1'!$M$8:$AV$8=W$9)*('P1'!$B$11:$B$190=$B28)*('P1'!$M$11:$AV$190*1))} -> 0 | X28: {=SUMPRODUCT(('P1'!$M$8:$AV$8=X$9)*('P1'!$B$11:$B$190=$B28)*('P1'!$M$11:$AV$190*1))} -> 0 | ... AZ28: {=SUMPRODUCT(('P1'!$M$8:$AV$8=AZ$9)*('P1'!$B$11:$B$190=$B28)*('P1'!$M$11:$AV$190*1))} -> 0 | BE28: =SUM(Q28:AZ28) -> 0 | BF28: =IFERROR(BE28/O28,0) -> 0 | BH28: =BB28+BE28 -> 0 | BI28: =IFERROR(BH28/O28,0) -> 0
B29: P11106 | C29: =IFERROR(VLOOKUP($B29,'P1'!$B:$AQ,2,FALSE),0) -> 0 | D29: =IFERROR(VLOOKUP($B29,'P1'!$B:$AQ,3,FALSE),0) -> 0 | E29: =IFERROR(VLOOKUP($B29,'P1'!$B:$AQ,4,FALSE),0) -> 0 | F29: =IFERROR(VLOOKUP($B29,'P1'!$B:$AQ,5,FALSE),0) -> 0 | G29: =IFERROR(VLOOKUP($B29,'P1'!$B:$AQ,6,FALSE),0) -> 0 | H29: =IFERROR(VLOOKUP($B29,'P1'!$B:$AQ,7,FALSE),0) -> 0 | I29: =IFERROR(VLOOKUP($B29,'P1'!$B:$AQ,8,FALSE),0) -> 0 | J29: =IFERROR(VLOOKUP($B29,'P1'!$B:$AQ,9,FALSE),0) -> 0 | L29: =J29*F29*H29*D29 -> 0 | O29: =SUM(K29:N29) -> 0 | Q29: {=SUMPRODUCT(('P1'!$M$8:$AV$8=Q$9)*('P1'!$B$11:$B$190=$B29)*('P1'!$M$11:$AV$190*1))} -> 0 | R29: {=SUMPRODUCT(('P1'!$M$8:$AV$8=R$9)*('P1'!$B$11:$B$190=$B29)*('P1'!$M$11:$AV$190*1))} -> 0 | S29: {=SUMPRODUCT(('P1'!$M$8:$AV$8=S$9)*('P1'!$B$11:$B$190=$B29)*('P1'!$M$11:$AV$190*1))} -> 0 | T29: {=SUMPRODUCT(('P1'!$M$8:$AV$8=T$9)*('P1'!$B$11:$B$190=$B29)*('P1'!$M$11:$AV$190*1))} -> 0 | U29: {=SUMPRODUCT(('P1'!$M$8:$AV$8=U$9)*('P1'!$B$11:$B$190=$B29)*('P1'!$M$11:$AV$190*1))} -> 0 | V29: {=SUMPRODUCT(('P1'!$M$8:$AV$8=V$9)*('P1'!$B$11:$B$190=$B29)*('P1'!$M$11:$AV$190*1))} -> 0 | W29: {=SUMPRODUCT(('P1'!$M$8:$AV$8=W$9)*('P1'!$B$11:$B$190=$B29)*('P1'!$M$11:$AV$190*1))} -> 0 | X29: {=SUMPRODUCT(('P1'!$M$8:$AV$8=X$9)*('P1'!$B$11:$B$190=$B29)*('P1'!$M$11:$AV$190*1))} -> 0 | ... AZ29: {=SUMPRODUCT(('P1'!$M$8:$AV$8=AZ$9)*('P1'!$B$11:$B$190=$B29)*('P1'!$M$11:$AV$190*1))} -> 0 | BE29: =SUM(Q29:AZ29) -> 0 | BF29: =IFERROR(BE29/O29,0) -> 0 | BH29: =BB29+BE29 -> 0 | BI29: =IFERROR(BH29/O29,0) -> 0
B30: P11107 | C30: =IFERROR(VLOOKUP($B30,'P1'!$B:$AQ,2,FALSE),0) -> 0 | D30: =IFERROR(VLOOKUP($B30,'P1'!$B:$AQ,3,FALSE),0) -> 0 | E30: =IFERROR(VLOOKUP($B30,'P1'!$B:$AQ,4,FALSE),0) -> 0 | F30: =IFERROR(VLOOKUP($B30,'P1'!$B:$AQ,5,FALSE),0) -> 0 | G30: =IFERROR(VLOOKUP($B30,'P1'!$B:$AQ,6,FALSE),0) -> 0 | H30: =IFERROR(VLOOKUP($B30,'P1'!$B:$AQ,7,FALSE),0) -> 0 | I30: =IFERROR(VLOOKUP($B30,'P1'!$B:$AQ,8,FALSE),0) -> 0 | J30: =IFERROR(VLOOKUP($B30,'P1'!$B:$AQ,9,FALSE),0) -> 0 | L30: =J30*F30*H30*D30 -> 0 | O30: =SUM(K30:N30) -> 0 | Q30: {=SUMPRODUCT(('P1'!$M$8:$AV$8=Q$9)*('P1'!$B$11:$B$190=$B30)*('P1'!$M$11:$AV$190*1))} -> 0 | R30: {=SUMPRODUCT(('P1'!$M$8:$AV$8=R$9)*('P1'!$B$11:$B$190=$B30)*('P1'!$M$11:$AV$190*1))} -> 0 | S30: {=SUMPRODUCT(('P1'!$M$8:$AV$8=S$9)*('P1'!$B$11:$B$190=$B30)*('P1'!$M$11:$AV$190*1))} -> 0 | T30: {=SUMPRODUCT(('P1'!$M$8:$AV$8=T$9)*('P1'!$B$11:$B$190=$B30)*('P1'!$M$11:$AV$190*1))} -> 0 | U30: {=SUMPRODUCT(('P1'!$M$8:$AV$8=U$9)*('P1'!$B$11:$B$190=$B30)*('P1'!$M$11:$AV$190*1))} -> 0 | V30: {=SUMPRODUCT(('P1'!$M$8:$AV$8=V$9)*('P1'!$B$11:$B$190=$B30)*('P1'!$M$11:$AV$190*1))} -> 0 | W30: {=SUMPRODUCT(('P1'!$M$8:$AV$8=W$9)*('P1'!$B$11:$B$190=$B30)*('P1'!$M$11:$AV$190*1))} -> 0 | X30: {=SUMPRODUCT(('P1'!$M$8:$AV$8=X$9)*('P1'!$B$11:$B$190=$B30)*('P1'!$M$11:$AV$190*1))} -> 0 | ... AZ30: {=SUMPRODUCT(('P1'!$M$8:$AV$8=AZ$9)*('P1'!$B$11:$B$190=$B30)*('P1'!$M$11:$AV$190*1))} -> 0 | BE30: =SUM(Q30:AZ30) -> 0 | BF30: =IFERROR(BE30/O30,0) -> 0 | BH30: =BB30+BE30 -> 0 | BI30: =IFERROR(BH30/O30,0) -> 0
B31: P11108 | C31: =IFERROR(VLOOKUP($B31,'P1'!$B:$AQ,2,FALSE),0) -> 0 | D31: =IFERROR(VLOOKUP($B31,'P1'!$B:$AQ,3,FALSE),0) -> 0 | E31: =IFERROR(VLOOKUP($B31,'P1'!$B:$AQ,4,FALSE),0) -> 0 | F31: =IFERROR(VLOOKUP($B31,'P1'!$B:$AQ,5,FALSE),0) -> 0 | G31: =IFERROR(VLOOKUP($B31,'P1'!$B:$AQ,6,FALSE),0) -> 0 | H31: =IFERROR(VLOOKUP($B31,'P1'!$B:$AQ,7,FALSE),0) -> 0 | I31: =IFERROR(VLOOKUP($B31,'P1'!$B:$AQ,8,FALSE),0) -> 0 | J31: =IFERROR(VLOOKUP($B31,'P1'!$B:$AQ,9,FALSE),0) -> 0 | L31: =J31*F31*H31*D31 -> 0 | O31: =SUM(K31:N31) -> 0 | Q31: {=SUMPRODUCT(('P1'!$M$8:$AV$8=Q$9)*('P1'!$B$11:$B$190=$B31)*('P1'!$M$11:$AV$190*1))} -> 0 | R31: {=SUMPRODUCT(('P1'!$M$8:$AV$8=R$9)*('P1'!$B$11:$B$190=$B31)*('P1'!$M$11:$AV$190*1))} -> 0 | S31: {=SUMPRODUCT(('P1'!$M$8:$AV$8=S$9)*('P1'!$B$11:$B$190=$B31)*('P1'!$M$11:$AV$190*1))} -> 0 | T31: {=SUMPRODUCT(('P1'!$M$8:$AV$8=T$9)*('P1'!$B$11:$B$190=$B31)*('P1'!$M$11:$AV$190*1))} -> 0 | U31: {=SUMPRODUCT(('P1'!$M$8:$AV$8=U$9)*('P1'!$B$11:$B$190=$B31)*('P1'!$M$11:$AV$190*1))} -> 0 | V31: {=SUMPRODUCT(('P1'!$M$8:$AV$8=V$9)*('P1'!$B$11:$B$190=$B31)*('P1'!$M$11:$AV$190*1))} -> 0 | W31: {=SUMPRODUCT(('P1'!$M$8:$AV$8=W$9)*('P1'!$B$11:$B$190=$B31)*('P1'!$M$11:$AV$190*1))} -> 0 | X31: {=SUMPRODUCT(('P1'!$M$8:$AV$8=X$9)*('P1'!$B$11:$B$190=$B31)*('P1'!$M$11:$AV$190*1))} -> 0 | ... AZ31: {=SUMPRODUCT(('P1'!$M$8:$AV$8=AZ$9)*('P1'!$B$11:$B$190=$B31)*('P1'!$M$11:$AV$190*1))} -> 0 | BE31: =SUM(Q31:AZ31) -> 0 | BF31: =IFERROR(BE31/O31,0) -> 0 | BH31: =BB31+BE31 -> 0 | BI31: =IFERROR(BH31/O31,0) -> 0
B32: P11109 | C32: =IFERROR(VLOOKUP($B32,'P1'!$B:$AQ,2,FALSE),0) -> 0 | D32: =IFERROR(VLOOKUP($B32,'P1'!$B:$AQ,3,FALSE),0) -> 0 | E32: =IFERROR(VLOOKUP($B32,'P1'!$B:$AQ,4,FALSE),0) -> 0 | F32: =IFERROR(VLOOKUP($B32,'P1'!$B:$AQ,5,FALSE),0) -> 0 | G32: =IFERROR(VLOOKUP($B32,'P1'!$B:$AQ,6,FALSE),0) -> 0 | H32: =IFERROR(VLOOKUP($B32,'P1'!$B:$AQ,7,FALSE),0) -> 0 | I32: =IFERROR(VLOOKUP($B32,'P1'!$B:$AQ,8,FALSE),0) -> 0 | J32: =IFERROR(VLOOKUP($B32,'P1'!$B:$AQ,9,FALSE),0) -> 0 | L32: =J32*F32*H32*D32 -> 0 | O32: =SUM(K32:N32) -> 0 | Q32: {=SUMPRODUCT(('P1'!$M$8:$AV$8=Q$9)*('P1'!$B$11:$B$190=$B32)*('P1'!$M$11:$AV$190*1))} -> 0 | R32: {=SUMPRODUCT(('P1'!$M$8:$AV$8=R$9)*('P1'!$B$11:$B$190=$B32)*('P1'!$M$11:$AV$190*1))} -> 0 | S32: {=SUMPRODUCT(('P1'!$M$8:$AV$8=S$9)*('P1'!$B$11:$B$190=$B32)*('P1'!$M$11:$AV$190*1))} -> 0 | T32: {=SUMPRODUCT(('P1'!$M$8:$AV$8=T$9)*('P1'!$B$11:$B$190=$B32)*('P1'!$M$11:$AV$190*1))} -> 0 | U32: {=SUMPRODUCT(('P1'!$M$8:$AV$8=U$9)*('P1'!$B$11:$B$190=$B32)*('P1'!$M$11:$AV$190*1))} -> 0 | V32: {=SUMPRODUCT(('P1'!$M$8:$AV$8=V$9)*('P1'!$B$11:$B$190=$B32)*('P1'!$M$11:$AV$190*1))} -> 0 | W32: {=SUMPRODUCT(('P1'!$M$8:$AV$8=W$9)*('P1'!$B$11:$B$190=$B32)*('P1'!$M$11:$AV$190*1))} -> 0 | X32: {=SUMPRODUCT(('P1'!$M$8:$AV$8=X$9)*('P1'!$B$11:$B$190=$B32)*('P1'!$M$11:$AV$190*1))} -> 0 | ... AZ32: {=SUMPRODUCT(('P1'!$M$8:$AV$8=AZ$9)*('P1'!$B$11:$B$190=$B32)*('P1'!$M$11:$AV$190*1))} -> 0 | BE32: =SUM(Q32:AZ32) -> 0 | BF32: =IFERROR(BE32/O32,0) -> 0 | BH32: =BB32+BE32 -> 0 | BI32: =IFERROR(BH32/O32,0) -> 0
B33: P11110 | C33: =IFERROR(VLOOKUP($B33,'P1'!$B:$AQ,2,FALSE),0) -> 0 | D33: =IFERROR(VLOOKUP($B33,'P1'!$B:$AQ,3,FALSE),0) -> 0 | E33: =IFERROR(VLOOKUP($B33,'P1'!$B:$AQ,4,FALSE),0) -> 0 | F33: =IFERROR(VLOOKUP($B33,'P1'!$B:$AQ,5,FALSE),0) -> 0 | G33: =IFERROR(VLOOKUP($B33,'P1'!$B:$AQ,6,FALSE),0) -> 0 | H33: =IFERROR(VLOOKUP($B33,'P1'!$B:$AQ,7,FALSE),0) -> 0 | I33: =IFERROR(VLOOKUP($B33,'P1'!$B:$AQ,8,FALSE),0) -> 0 | J33: =IFERROR(VLOOKUP($B33,'P1'!$B:$AQ,9,FALSE),0) -> 0 | L33: =J33*F33*H33*D33 -> 0 | O33: =SUM(K33:N33) -> 0 | Q33: {=SUMPRODUCT(('P1'!$M$8:$AV$8=Q$9)*('P1'!$B$11:$B$190=$B33)*('P1'!$M$11:$AV$190*1))} -> 0 | R33: {=SUMPRODUCT(('P1'!$M$8:$AV$8=R$9)*('P1'!$B$11:$B$190=$B33)*('P1'!$M$11:$AV$190*1))} -> 0 | S33: {=SUMPRODUCT(('P1'!$M$8:$AV$8=S$9)*('P1'!$B$11:$B$190=$B33)*('P1'!$M$11:$AV$190*1))} -> 0 | T33: {=SUMPRODUCT(('P1'!$M$8:$AV$8=T$9)*('P1'!$B$11:$B$190=$B33)*('P1'!$M$11:$AV$190*1))} -> 0 | U33: {=SUMPRODUCT(('P1'!$M$8:$AV$8=U$9)*('P1'!$B$11:$B$190=$B33)*('P1'!$M$11:$AV$190*1))} -> 0 | V33: {=SUMPRODUCT(('P1'!$M$8:$AV$8=V$9)*('P1'!$B$11:$B$190=$B33)*('P1'!$M$11:$AV$190*1))} -> 0 | W33: {=SUMPRODUCT(('P1'!$M$8:$AV$8=W$9)*('P1'!$B$11:$B$190=$B33)*('P1'!$M$11:$AV$190*1))} -> 0 | X33: {=SUMPRODUCT(('P1'!$M$8:$AV$8=X$9)*('P1'!$B$11:$B$190=$B33)*('P1'!$M$11:$AV$190*1))} -> 0 | ... AZ33: {=SUMPRODUCT(('P1'!$M$8:$AV$8=AZ$9)*('P1'!$B$11:$B$190=$B33)*('P1'!$M$11:$AV$190*1))} -> 0 | BE33: =SUM(Q33:AZ33) -> 0 | BF33: =IFERROR(BE33/O33,0) -> 0 | BH33: =BB33+BE33 -> 0 | BI33: =IFERROR(BH33/O33,0) -> 0
C34: =B4 -> P2 | M34: =SUM(M35:M44) -> 0 | O34: =SUM(O35:O44) -> 0 | Q34: =SUM(Q35:Q44) -> 0 | R34: =SUM(R35:R44) -> 0 | S34: =SUM(S35:S44) -> 0 | T34: =SUM(T35:T44) -> 0 | U34: =SUM(U35:U44) -> 0 | V34: =SUM(V35:V44) -> 0 | W34: =SUM(W35:W44) -> 0 | X34: =SUM(X35:X44) -> 0 | ... AZ34: =SUM(AZ35:AZ44) -> 0 | BB34: =SUM(BB35:BB44) -> 0 | BE34: =SUM(BE35:BE44) -> 0 | BF34: =IFERROR(BE34/O34,0) -> 0 | BH34: =SUM(BH35:BH44) -> 0 | BI34: =IFERROR(BH34/O34,0) -> 0
B35: P21101 | C35: =IFERROR(VLOOKUP($B35,'P2'!$B:$AQ,2,FALSE),0) -> 0 | D35: =IFERROR(VLOOKUP($B35,'P2'!$B:$AQ,3,FALSE),0) -> 0 | E35: =IFERROR(VLOOKUP($B35,'P2'!$B:$AQ,4,FALSE),0) -> 0 | F35: =IFERROR(VLOOKUP($B35,'P2'!$B:$AQ,5,FALSE),0) -> 0 | G35: =IFERROR(VLOOKUP($B35,'P2'!$B:$AQ,6,FALSE),0) -> 0 | H35: =IFERROR(VLOOKUP($B35,'P2'!$B:$AQ,7,FALSE),0) -> 0 | I35: =IFERROR(VLOOKUP($B35,'P2'!$B:$AQ,8,FALSE),0) -> 0 | J35: =IFERROR(VLOOKUP($B35,'P2'!$B:$AQ,9,FALSE),0) -> 0 | M35: =D35*F35*H35*J35 -> 0 | O35: =SUM(K35:N35) -> 0 | Q35: {=SUMPRODUCT(('P2'!$M$8:$AV$8=Q$9)*('P2'!$B$11:$B$190=$B35)*('P2'!$M$11:$AV$190*1))} -> 0 | R35: {=SUMPRODUCT(('P2'!$M$8:$AV$8=R$9)*('P2'!$B$11:$B$190=$B35)*('P2'!$M$11:$AV$190*1))} -> 0 | S35: {=SUMPRODUCT(('P2'!$M$8:$AV$8=S$9)*('P2'!$B$11:$B$190=$B35)*('P2'!$M$11:$AV$190*1))} -> 0 | T35: {=SUMPRODUCT(('P2'!$M$8:$AV$8=T$9)*('P2'!$B$11:$B$190=$B35)*('P2'!$M$11:$AV$190*1))} -> 0 | U35: {=SUMPRODUCT(('P2'!$M$8:$AV$8=U$9)*('P2'!$B$11:$B$190=$B35)*('P2'!$M$11:$AV$190*1))} -> 0 | V35: {=SUMPRODUCT(('P2'!$M$8:$AV$8=V$9)*('P2'!$B$11:$B$190=$B35)*('P2'!$M$11:$AV$190*1))} -> 0 | W35: {=SUMPRODUCT(('P2'!$M$8:$AV$8=W$9)*('P2'!$B$11:$B$190=$B35)*('P2'!$M$11:$AV$190*1))} -> 0 | X35: {=SUMPRODUCT(('P2'!$M$8:$AV$8=X$9)*('P2'!$B$11:$B$190=$B35)*('P2'!$M$11:$AV$190*1))} -> 0 | ... AZ35: {=SUMPRODUCT(('P2'!$M$8:$AV$8=AZ$9)*('P2'!$B$11:$B$190=$B35)*('P2'!$M$11:$AV$190*1))} -> 0 | BE35: =SUM(Q35:AZ35) -> 0 | BF35: =IFERROR(BE35/O35,0) -> 0 | BH35: =BB35+BE35 -> 0 | BI35: =IFERROR(BH35/O35,0) -> 0
B36: P21102 | C36: =IFERROR(VLOOKUP($B36,'P2'!$B:$AQ,2,FALSE),0) -> 0 | D36: =IFERROR(VLOOKUP($B36,'P2'!$B:$AQ,3,FALSE),0) -> 0 | E36: =IFERROR(VLOOKUP($B36,'P2'!$B:$AQ,4,FALSE),0) -> 0 | F36: =IFERROR(VLOOKUP($B36,'P2'!$B:$AQ,5,FALSE),0) -> 0 | G36: =IFERROR(VLOOKUP($B36,'P2'!$B:$AQ,6,FALSE),0) -> 0 | H36: =IFERROR(VLOOKUP($B36,'P2'!$B:$AQ,7,FALSE),0) -> 0 | I36: =IFERROR(VLOOKUP($B36,'P2'!$B:$AQ,8,FALSE),0) -> 0 | J36: =IFERROR(VLOOKUP($B36,'P2'!$B:$AQ,9,FALSE),0) -> 0 | M36: =D36*F36*H36*J36 -> 0 | O36: =SUM(K36:N36) -> 0 | Q36: {=SUMPRODUCT(('P2'!$M$8:$AV$8=Q$9)*('P2'!$B$11:$B$190=$B36)*('P2'!$M$11:$AV$190*1))} -> 0 | R36: {=SUMPRODUCT(('P2'!$M$8:$AV$8=R$9)*('P2'!$B$11:$B$190=$B36)*('P2'!$M$11:$AV$190*1))} -> 0 | S36: {=SUMPRODUCT(('P2'!$M$8:$AV$8=S$9)*('P2'!$B$11:$B$190=$B36)*('P2'!$M$11:$AV$190*1))} -> 0 | T36: {=SUMPRODUCT(('P2'!$M$8:$AV$8=T$9)*('P2'!$B$11:$B$190=$B36)*('P2'!$M$11:$AV$190*1))} -> 0 | U36: {=SUMPRODUCT(('P2'!$M$8:$AV$8=U$9)*('P2'!$B$11:$B$190=$B36)*('P2'!$M$11:$AV$190*1))} -> 0 | V36: {=SUMPRODUCT(('P2'!$M$8:$AV$8=V$9)*('P2'!$B$11:$B$190=$B36)*('P2'!$M$11:$AV$190*1))} -> 0 | W36: {=SUMPRODUCT(('P2'!$M$8:$AV$8=W$9)*('P2'!$B$11:$B$190=$B36)*('P2'!$M$11:$AV$190*1))} -> 0 | X36: {=SUMPRODUCT(('P2'!$M$8:$AV$8=X$9)*('P2'!$B$11:$B$190=$B36)*('P2'!$M$11:$AV$190*1))} -> 0 | ... AZ36: {=SUMPRODUCT(('P2'!$M$8:$AV$8=AZ$9)*('P2'!$B$11:$B$190=$B36)*('P2'!$M$11:$AV$190*1))} -> 0 | BE36: =SUM(Q36:AZ36) -> 0 | BF36: =IFERROR(BE36/O36,0) -> 0 | BH36: =BB36+BE36 -> 0 | BI36: =IFERROR(BH36/O36,0) -> 0
B37: P21103 | C37: =IFERROR(VLOOKUP($B37,'P2'!$B:$AQ,2,FALSE),0) -> 0 | D37: =IFERROR(VLOOKUP($B37,'P2'!$B:$AQ,3,FALSE),0) -> 0 | E37: =IFERROR(VLOOKUP($B37,'P2'!$B:$AQ,4,FALSE),0) -> 0 | F37: =IFERROR(VLOOKUP($B37,'P2'!$B:$AQ,5,FALSE),0) -> 0 | G37: =IFERROR(VLOOKUP($B37,'P2'!$B:$AQ,6,FALSE),0) -> 0 | H37: =IFERROR(VLOOKUP($B37,'P2'!$B:$AQ,7,FALSE),0) -> 0 | I37: =IFERROR(VLOOKUP($B37,'P2'!$B:$AQ,8,FALSE),0) -> 0 | J37: =IFERROR(VLOOKUP($B37,'P2'!$B:$AQ,9,FALSE),0) -> 0 | M37: =D37*F37*H37*J37 -> 0 | O37: =SUM(K37:N37) -> 0 | Q37: {=SUMPRODUCT(('P2'!$M$8:$AV$8=Q$9)*('P2'!$B$11:$B$190=$B37)*('P2'!$M$11:$AV$190*1))} -> 0 | R37: {=SUMPRODUCT(('P2'!$M$8:$AV$8=R$9)*('P2'!$B$11:$B$190=$B37)*('P2'!$M$11:$AV$190*1))} -> 0 | S37: {=SUMPRODUCT(('P2'!$M$8:$AV$8=S$9)*('P2'!$B$11:$B$190=$B37)*('P2'!$M$11:$AV$190*1))} -> 0 | T37: {=SUMPRODUCT(('P2'!$M$8:$AV$8=T$9)*('P2'!$B$11:$B$190=$B37)*('P2'!$M$11:$AV$190*1))} -> 0 | U37: {=SUMPRODUCT(('P2'!$M$8:$AV$8=U$9)*('P2'!$B$11:$B$190=$B37)*('P2'!$M$11:$AV$190*1))} -> 0 | V37: {=SUMPRODUCT(('P2'!$M$8:$AV$8=V$9)*('P2'!$B$11:$B$190=$B37)*('P2'!$M$11:$AV$190*1))} -> 0 | W37: {=SUMPRODUCT(('P2'!$M$8:$AV$8=W$9)*('P2'!$B$11:$B$190=$B37)*('P2'!$M$11:$AV$190*1))} -> 0 | X37: {=SUMPRODUCT(('P2'!$M$8:$AV$8=X$9)*('P2'!$B$11:$B$190=$B37)*('P2'!$M$11:$AV$190*1))} -> 0 | ... AZ37: {=SUMPRODUCT(('P2'!$M$8:$AV$8=AZ$9)*('P2'!$B$11:$B$190=$B37)*('P2'!$M$11:$AV$190*1))} -> 0 | BE37: =SUM(Q37:AZ37) -> 0 | BF37: =IFERROR(BE37/O37,0) -> 0 | BH37: =BB37+BE37 -> 0 | BI37: =IFERROR(BH37/O37,0) -> 0
B38: P21104 | C38: =IFERROR(VLOOKUP($B38,'P2'!$B:$AQ,2,FALSE),0) -> 0 | D38: =IFERROR(VLOOKUP($B38,'P2'!$B:$AQ,3,FALSE),0) -> 0 | E38: =IFERROR(VLOOKUP($B38,'P2'!$B:$AQ,4,FALSE),0) -> 0 | F38: =IFERROR(VLOOKUP($B38,'P2'!$B:$AQ,5,FALSE),0) -> 0 | G38: =IFERROR(VLOOKUP($B38,'P2'!$B:$AQ,6,FALSE),0) -> 0 | H38: =IFERROR(VLOOKUP($B38,'P2'!$B:$AQ,7,FALSE),0) -> 0 | I38: =IFERROR(VLOOKUP($B38,'P2'!$B:$AQ,8,FALSE),0) -> 0 | J38: =IFERROR(VLOOKUP($B38,'P2'!$B:$AQ,9,FALSE),0) -> 0 | M38: =D38*F38*H38*J38 -> 0 | O38: =SUM(K38:N38) -> 0 | Q38: {=SUMPRODUCT(('P2'!$M$8:$AV$8=Q$9)*('P2'!$B$11:$B$190=$B38)*('P2'!$M$11:$AV$190*1))} -> 0 | R38: {=SUMPRODUCT(('P2'!$M$8:$AV$8=R$9)*('P2'!$B$11:$B$190=$B38)*('P2'!$M$11:$AV$190*1))} -> 0 | S38: {=SUMPRODUCT(('P2'!$M$8:$AV$8=S$9)*('P2'!$B$11:$B$190=$B38)*('P2'!$M$11:$AV$190*1))} -> 0 | T38: {=SUMPRODUCT(('P2'!$M$8:$AV$8=T$9)*('P2'!$B$11:$B$190=$B38)*('P2'!$M$11:$AV$190*1))} -> 0 | U38: {=SUMPRODUCT(('P2'!$M$8:$AV$8=U$9)*('P2'!$B$11:$B$190=$B38)*('P2'!$M$11:$AV$190*1))} -> 0 | V38: {=SUMPRODUCT(('P2'!$M$8:$AV$8=V$9)*('P2'!$B$11:$B$190=$B38)*('P2'!$M$11:$AV$190*1))} -> 0 | W38: {=SUMPRODUCT(('P2'!$M$8:$AV$8=W$9)*('P2'!$B$11:$B$190=$B38)*('P2'!$M$11:$AV$190*1))} -> 0 | X38: {=SUMPRODUCT(('P2'!$M$8:$AV$8=X$9)*('P2'!$B$11:$B$190=$B38)*('P2'!$M$11:$AV$190*1))} -> 0 | ... AZ38: {=SUMPRODUCT(('P2'!$M$8:$AV$8=AZ$9)*('P2'!$B$11:$B$190=$B38)*('P2'!$M$11:$AV$190*1))} -> 0 | BE38: =SUM(Q38:AZ38) -> 0 | BF38: =IFERROR(BE38/O38,0) -> 0 | BH38: =BB38+BE38 -> 0 | BI38: =IFERROR(BH38/O38,0) -> 0
B39: P21105 | C39: =IFERROR(VLOOKUP($B39,'P2'!$B:$AQ,2,FALSE),0) -> 0 | D39: =IFERROR(VLOOKUP($B39,'P2'!$B:$AQ,3,FALSE),0) -> 0 | E39: =IFERROR(VLOOKUP($B39,'P2'!$B:$AQ,4,FALSE),0) -> 0 | F39: =IFERROR(VLOOKUP($B39,'P2'!$B:$AQ,5,FALSE),0) -> 0 | G39: =IFERROR(VLOOKUP($B39,'P2'!$B:$AQ,6,FALSE),0) -> 0 | H39: =IFERROR(VLOOKUP($B39,'P2'!$B:$AQ,7,FALSE),0) -> 0 | I39: =IFERROR(VLOOKUP($B39,'P2'!$B:$AQ,8,FALSE),0) -> 0 | J39: =IFERROR(VLOOKUP($B39,'P2'!$B:$AQ,9,FALSE),0) -> 0 | M39: =D39*F39*H39*J39 -> 0 | O39: =SUM(K39:N39) -> 0 | Q39: {=SUMPRODUCT(('P2'!$M$8:$AV$8=Q$9)*('P2'!$B$11:$B$190=$B39)*('P2'!$M$11:$AV$190*1))} -> 0 | R39: {=SUMPRODUCT(('P2'!$M$8:$AV$8=R$9)*('P2'!$B$11:$B$190=$B39)*('P2'!$M$11:$AV$190*1))} -> 0 | S39: {=SUMPRODUCT(('P2'!$M$8:$AV$8=S$9)*('P2'!$B$11:$B$190=$B39)*('P2'!$M$11:$AV$190*1))} -> 0 | T39: {=SUMPRODUCT(('P2'!$M$8:$AV$8=T$9)*('P2'!$B$11:$B$190=$B39)*('P2'!$M$11:$AV$190*1))} -> 0 | U39: {=SUMPRODUCT(('P2'!$M$8:$AV$8=U$9)*('P2'!$B$11:$B$190=$B39)*('P2'!$M$11:$AV$190*1))} -> 0 | V39: {=SUMPRODUCT(('P2'!$M$8:$AV$8=V$9)*('P2'!$B$11:$B$190=$B39)*('P2'!$M$11:$AV$190*1))} -> 0 | W39: {=SUMPRODUCT(('P2'!$M$8:$AV$8=W$9)*('P2'!$B$11:$B$190=$B39)*('P2'!$M$11:$AV$190*1))} -> 0 | X39: {=SUMPRODUCT(('P2'!$M$8:$AV$8=X$9)*('P2'!$B$11:$B$190=$B39)*('P2'!$M$11:$AV$190*1))} -> 0 | ... AZ39: {=SUMPRODUCT(('P2'!$M$8:$AV$8=AZ$9)*('P2'!$B$11:$B$190=$B39)*('P2'!$M$11:$AV$190*1))} -> 0 | BE39: =SUM(Q39:AZ39) -> 0 | BF39: =IFERROR(BE39/O39,0) -> 0 | BH39: =BB39+BE39 -> 0 | BI39: =IFERROR(BH39/O39,0) -> 0
B40: P21106 | C40: =IFERROR(VLOOKUP($B40,'P2'!$B:$AQ,2,FALSE),0) -> 0 | D40: =IFERROR(VLOOKUP($B40,'P2'!$B:$AQ,3,FALSE),0) -> 0 | E40: =IFERROR(VLOOKUP($B40,'P2'!$B:$AQ,4,FALSE),0) -> 0 | F40: =IFERROR(VLOOKUP($B40,'P2'!$B:$AQ,5,FALSE),0) -> 0 | G40: =IFERROR(VLOOKUP($B40,'P2'!$B:$AQ,6,FALSE),0) -> 0 | H40: =IFERROR(VLOOKUP($B40,'P2'!$B:$AQ,7,FALSE),0) -> 0 | I40: =IFERROR(VLOOKUP($B40,'P2'!$B:$AQ,8,FALSE),0) -> 0 | J40: =IFERROR(VLOOKUP($B40,'P2'!$B:$AQ,9,FALSE),0) -> 0 | M40: =D40*F40*H40*J40 -> 0 | O40: =SUM(K40:N40) -> 0 | Q40: {=SUMPRODUCT(('P2'!$M$8:$AV$8=Q$9)*('P2'!$B$11:$B$190=$B40)*('P2'!$M$11:$AV$190*1))} -> 0 | R40: {=SUMPRODUCT(('P2'!$M$8:$AV$8=R$9)*('P2'!$B$11:$B$190=$B40)*('P2'!$M$11:$AV$190*1))} -> 0 | S40: {=SUMPRODUCT(('P2'!$M$8:$AV$8=S$9)*('P2'!$B$11:$B$190=$B40)*('P2'!$M$11:$AV$190*1))} -> 0 | T40: {=SUMPRODUCT(('P2'!$M$8:$AV$8=T$9)*('P2'!$B$11:$B$190=$B40)*('P2'!$M$11:$AV$190*1))} -> 0 | U40: {=SUMPRODUCT(('P2'!$M$8:$AV$8=U$9)*('P2'!$B$11:$B$190=$B40)*('P2'!$M$11:$AV$190*1))} -> 0 | V40: {=SUMPRODUCT(('P2'!$M$8:$AV$8=V$9)*('P2'!$B$11:$B$190=$B40)*('P2'!$M$11:$AV$190*1))} -> 0 | W40: {=SUMPRODUCT(('P2'!$M$8:$AV$8=W$9)*('P2'!$B$11:$B$190=$B40)*('P2'!$M$11:$AV$190*1))} -> 0 | X40: {=SUMPRODUCT(('P2'!$M$8:$AV$8=X$9)*('P2'!$B$11:$B$190=$B40)*('P2'!$M$11:$AV$190*1))} -> 0 | ... AZ40: {=SUMPRODUCT(('P2'!$M$8:$AV$8=AZ$9)*('P2'!$B$11:$B$190=$B40)*('P2'!$M$11:$AV$190*1))} -> 0 | BE40: =SUM(Q40:AZ40) -> 0 | BF40: =IFERROR(BE40/O40,0) -> 0 | BH40: =BB40+BE40 -> 0 | BI40: =IFERROR(BH40/O40,0) -> 0
...

Sheet Budget Lead
B1: Parameters | E1: Budget Summary
B2: Lead Partner | C2: ='Budget Consortium'!B2 -> Lead Partner | E2: 1. Activities | F2: 2. Capital | G2: 3. Staff | H2: 4. Travel | I2: 5. Office | J2: 6. M&E | K2: Overhead | L2: Total | U2: =C3-L3 -> 0
B3: Global Amount | C3: =L3 -> 0 | E3: =K9 -> 0 | F3: =K76 -> 0 | G3: =K87 -> 0 | H3: =K132 -> 0 | I3: =K166 -> 0 | J3: =K177 -> 0 | K3: =K190 -> 0 | L3: =SUM(E3:K3) -> 0
B4: Overhead | C4: 0.07 | E4: =IFERROR(E3/$L$3,0) -> 0 | F4: =IFERROR(F3/$L$3,0) -> 0 | G4: =IFERROR(G3/$L$3,0) -> 0 | H4: =IFERROR(H3/$L$3,0) -> 0 | I4: =IFERROR(I3/$L$3,0) -> 0 | J4: =IFERROR(J3/$L$3,0) -> 0 | K4: =IFERROR(K3/$L$3,0) -> 0
B5: Rate XOF/GBP | C5: 767.326
M6: 1 | N6: 1 | O6: 1 | P6: 2 | Q6: 2 | R6: 2 | S6: 3 | T6: 3 | U6: 3 | V6: 4 | W6: 4 | X6: 4 | Y6: 5 | Z6: 5 | AA6: 5 | AB6: 6 | AC6: 6 | AD6: 6 | AE6: 7 | AF6: 7 | AG6: 7 | AH6: 8 | AI6: 8 | AJ6: 8 | AK6: 9 | AL6: 9 | AM6: 9 | AN6: 10 | AO6: 10 | AP6: 10 | AQ6: 11 | AR6: 11 | AS6: 11 | AT6: 12 | AU6: 12 | AV6: 12 | AX6: Expenses | BA6: Forecast | BD6: Expenses + Forecast | BG6: Financial Narrative (don't hesitate to use the BOQ tab for further details on calculations)
M7: Quarter 1 | P7: Quarter 2 | S7: Quarter 3 | V7: Quarter 4 | Y7: Quarter 5 | AB7: Quarter 6 | AE7: Quarter 7 | AH7: Quarter 8 | AK7: Quarter 9 | AN7: Quarter 10 | AQ7: Quarter 11 | AT7: Quarter 12
D8: Nbr | E8: Unit | F8: Nbr 2 | G8: Unit 2 | H8: % Aloc | I8: Unit XOF | J8: Unit GBP | K8: Total | M8: 44927 | N8: 44958 | O8: 44986 | P8: 45017 | Q8: 45047 | R8: 45078 | S8: 45108 | T8: 45139 | U8: 45170 | V8: 45200 | W8: 45231 | X8: 45261 | Y8: 45292 | Z8: 45323 | AA8: 45352 | AB8: 45383 | AC8: 45413 | AD8: 45444 | AE8: 45474 | AF8: 45505 | AG8: 45536 | AH8: 45566 | AI8: 45597 | AJ8: 45627 | AK8: 45658 | AL8: 45689 | AM8: 45717 | AN8: 45748 | AO8: 45778 | AP8: 45809 | AQ8: 45839 | AR8: 45870 | AS8: 45901 | AT8: 45931 | AU8: 45962 | AV8: 45992 | AX8: Total | AY8: Rate | BA8: Total | BB8: Rate | BD8: Total | BE8: Rate
C9: 1. PROJECT ACTIVITIES | K9: =K10+K21+K32+K43+K54+K65 -> 0 | M9: =M10+M21+M32+M43+M54+M65 -> 0 | N9: =N10+N21+N32+N43+N54+N65 -> 0 | O9: =O10+O21+O32+O43+O54+O65 -> 0 | P9: =P10+P21+P32+P43+P54+P65 -> 0 | Q9: =Q10+Q21+Q32+Q43+Q54+Q65 -> 0 | R9: =R10+R21+R32+R43+R54+R65 -> 0 | S9: =S10+S21+S32+S43+S54+S65 -> 0 | T9: =T10+T21+T32+T43+T54+T65 -> 0 | ... AV9: =AV10+AV21+AV32+AV43+AV54+AV65 -> 0 | AX9: =AX10+AX21+AX32+AX43+AX54+AX65 -> 0 | AY9: =IFERROR(AX9/K9,0) -> 0 | BA9: =BA10+BA21+BA32+BA43+BA54+BA65 -> 0 | BB9: =IFERROR(BA9/K9,0) -> 0 | BD9: =BD10+BD21+BD32+BD43+BD54+BD65 -> 0 | BE9: =IFERROR(BD9/K9,0) -> 0
C10: 1.1. Cash | K10: =SUM(K11:K20) -> 0 | M10: =SUM(M11:M20) -> 0 | N10: =SUM(N11:N20) -> 0 | O10: =SUM(O11:O20) -> 0 | P10: =SUM(P11:P20) -> 0 | Q10: =SUM(Q11:Q20) -> 0 | R10: =SUM(R11:R20) -> 0 | S10: =SUM(S11:S20) -> 0 | T10: =SUM(T11:T20) -> 0 | ... AV10: =SUM(AV11:AV20) -> 0 | AX10: =SUM(AX11:AX20) -> 0 | AY10: =IFERROR(AX10/K10,0) -> 0 | BA10: =SUM(BA11:BA20) -> 0 | BB10: =IFERROR(BA10/K10,0) -> 0 | BD10: =SUM(BD11:BD20) -> 0 | BE10: =IFERROR(BD10/K10,0) -> 0
B11: LP1101 | J11: =I11/$C$5 -> 0 | K11: =D11*F11*H11*J11 -> 0 | AY11: =IFERROR(AX11/K11,0) -> 0 | BA11: =SUM(M11:AV11) -> 0 | BB11: =IFERROR(BA11/K11,0) -> 0 | BD11: =AX11+BA11 -> 0 | BE11: =IFERROR(BD11/K11,0) -> 0
B12: LP1102 | J12: =I12/$C$5 -> 0 | K12: =D12*F12*H12*J12 -> 0 | AY12: =IFERROR(AX12/K12,0) -> 0 | BA12: =SUM(M12:AV12) -> 0 | BB12: =IFERROR(BA12/K12,0) -> 0 | BD12: =AX12+BA12 -> 0 | BE12: =IFERROR(BD12/K12,0) -> 0
B13: LP1103 | J13: =I13/$C$5 -> 0 | K13: =D13*F13*H13*J13 -> 0 | AY13: =IFERROR(AX13/K13,0) -> 0 | BA13: =SUM(M13:AV13) -> 0 | BB13: =IFERROR(BA13/K13,0) -> 0 | BD13: =AX13+BA13 -> 0 | BE13: =IFERROR(BD13/K13,0) -> 0
B14: LP1104 | J14: =I14/$C$5 -> 0 | K14: =D14*F14*H14*J14 -> 0 | AY14: =IFERROR(AX14/K14,0) -> 0 | BA14: =SUM(M14:AV14) -> 0 | BB14: =IFERROR(BA14/K14,0) -> 0 | BD14: =AX14+BA14 -> 0 | BE14: =IFERROR(BD14/K14,0) -> 0
B15: LP1105 | J15: =I15/$C$5 -> 0 | K15: =D15*F15*H15*J15 -> 0 | AY15: =IFERROR(AX15/K15,0) -> 0 | BA15: =SUM(M15:AV15) -> 0 | BB15: =IFERROR(BA15/K15,0) -> 0 | BD15: =AX15+BA15 -> 0 | BE15: =IFERROR(BD15/K15,0) -> 0
B16: LP1106 | J16: =I16/$C$5 -> 0 | K16: =D16*F16*H16*J16 -> 0 | AY16: =IFERROR(AX16/K16,0) -> 0 | BA16: =SUM(M16:AV16) -> 0 | BB16: =IFERROR(BA16/K16,0) -> 0 | BD16: =AX16+BA16 -> 0 | BE16: =IFERROR(BD16/K16,0) -> 0
B17: LP1107 | J17: =I17/$C$5 -> 0 | K17: =D17*F17*H17*J17 -> 0 | AY17: =IFERROR(AX17/K17,0) -> 0 | BA17: =SUM(M17:AV17) -> 0 | BB17: =IFERROR(BA17/K17,0) -> 0 | BD17: =AX17+BA17 -> 0 | BE17: =IFERROR(BD17/K17,0) -> 0
B18: LP1108 | J18: =I18/$C$5 -> 0 | K18: =D18*F18*H18*J18 -> 0 | AY18: =IFERROR(AX18/K18,0) -> 0 | BA18: =SUM(M18:AV18) -> 0 | BB18: =IFERROR(BA18/K18,0) -> 0 | BD18: =AX18+BA18 -> 0 | BE18: =IFERROR(BD18/K18,0) -> 0
B19: LP1109 | J19: =I19/$C$5 -> 0 | K19: =D19*F19*H19*J19 -> 0 | AY19: =IFERROR(AX19/K19,0) -> 0 | BA19: =SUM(M19:AV19) -> 0 | BB19: =IFERROR(BA19/K19,0) -> 0 | BD19: =AX19+BA19 -> 0 | BE19: =IFERROR(BD19/K19,0) -> 0
B20: LP1110 | J20: =I20/$C$5 -> 0 | K20: =D20*F20*H20*J20 -> 0 | AY20: =IFERROR(AX20/K20,0) -> 0 | BA20: =SUM(M20:AV20) -> 0 | BB20: =IFERROR(BA20/K20,0) -> 0 | BD20: =AX20+BA20 -> 0 | BE20: =IFERROR(BD20/K20,0) -> 0
C21: 1.2. Food Security & Livelihood | K21: =SUM(K22:K31) -> 0 | M21: =SUM(M22:M31) -> 0 | N21: =SUM(N22:N31) -> 0 | O21: =SUM(O22:O31) -> 0 | P21: =SUM(P22:P31) -> 0 | Q21: =SUM(Q22:Q31) -> 0 | R21: =SUM(R22:R31) -> 0 | S21: =SUM(S22:S31) -> 0 | T21: =SUM(T22:T31) -> 0 | ... AV21: =SUM(AV22:AV31) -> 0 | AX21: =SUM(AX22:AX31) -> 0 | AY21: =IFERROR(AX21/K21,0) -> 0 | BA21: =SUM(BA22:BA31) -> 0 | BB21: =IFERROR(BA21/K21,0) -> 0 | BD21: =SUM(BD22:BD31) -> 0 | BE21: =IFERROR(BD21/K21,0) -> 0
B22: LP1201 | J22: =I22/$C$5 -> 0 | K22: =D22*F22*H22*J22 -> 0 | AY22: =IFERROR(AX22/K22,0) -> 0 | BB22: =IFERROR(BA22/K22,0) -> 0
B23: LP1202 | J23: =I23/$C$5 -> 0 | K23: =D23*F23*H23*J23 -> 0 | AY23: =IFERROR(AX23/K23,0) -> 0 | BB23: =IFERROR(BA23/K23,0) -> 0
B24: LP1203 | J24: =I24/$C$5 -> 0 | K24: =D24*F24*H24*J24 -> 0 | AY24: =IFERROR(AX24/K24,0) -> 0 | BB24: =IFERROR(BA24/K24,0) -> 0
B25: LP1204 | J25: =I25/$C$5 -> 0 | K25: =D25*F25*H25*J25 -> 0 | AY25: =IFERROR(AX25/K25,0) -> 0 | BB25: =IFERROR(BA25/K25,0) -> 0
B26: LP1205 | J26: =I26/$C$5 -> 0 | K26: =D26*F26*H26*J26 -> 0 | AY26: =IFERROR(AX26/K26,0) -> 0 | BB26: =IFERROR(BA26/K26,0) -> 0
B27: LP1206 | J27: =I27/$C$5 -> 0 | K27: =D27*F27*H27*J27 -> 0 | AY27: =IFERROR(AX27/K27,0) -> 0 | BB27: =IFERROR(BA27/K27,0) -> 0
B28: LP1207 | J28: =I28/$C$5 -> 0 | K28: =D28*F28*H28*J28 -> 0 | AY28: =IFERROR(AX28/K28,0) -> 0 | BB28: =IFERROR(BA28/K28,0) -> 0
B29: LP1208 | J29: =I29/$C$5 -> 0 | K29: =D29*F29*H29*J29 -> 0 | AY29: =IFERROR(AX29/K29,0) -> 0 | BB29: =IFERROR(BA29/K29,0) -> 0
B30: LP1209 | J30: =I30/$C$5 -> 0 | K30: =D30*F30*H30*J30 -> 0 | AY30: =IFERROR(AX30/K30,0) -> 0 | BB30: =IFERROR(BA30/K30,0) -> 0
B31: LP1210 | J31: =I31/$C$5 -> 0 | K31: =D31*F31*H31*J31 -> 0 | AY31: =IFERROR(AX31/K31,0) -> 0 | BB31: =IFERROR(BA31/K31,0) -> 0
C32: 1.3. Protection | K32: =SUM(K33:K42) -> 0 | M32: =SUM(M33:M42) -> 0 | N32: =SUM(N33:N42) -> 0 | O32: =SUM(O33:O42) -> 0 | P32: =SUM(P33:P42) -> 0 | Q32: =SUM(Q33:Q42) -> 0 | R32: =SUM(R33:R42) -> 0 | S32: =SUM(S33:S42) -> 0 | T32: =SUM(T33:T42) -> 0 | ... AV32: =SUM(AV33:AV42) -> 0 | AX32: =SUM(AX33:AX42) -> 0 | AY32: =IFERROR(AX32/K32,0) -> 0 | BA32: =SUM(BA33:BA42) -> 0 | BB32: =IFERROR(BA32/K32,0) -> 0 | BD32: =SUM(BD33:BD42) -> 0 | BE32: =IFERROR(BD32/K32,0) -> 0
B33: LP1301 | J33: =I33/$C$5 -> 0 | K33: =D33*F33*H33*J33 -> 0 | V33: =$D33/2*$J33 -> 0 | AH33: =$D33/2*$J33 -> 0 | AK33: =$D33/2*$J33 -> 0 | AN33: =$D33/2*$J33 -> 0 | AY33: =IFERROR(AX33/K33,0) -> 0 | BA33: =SUM(M33:AV33) -> 0 | BB33: =IFERROR(BA33/K33,0) -> 0 | BD33: =AX33+BA33 -> 0 | BE33: =IFERROR(BD33/K33,0) -> 0
B34: LP1302 | J34: =I34/$C$5 -> 0 | K34: =D34*F34*H34*J34 -> 0 | T34: =$K$34/6 -> 0 | U34: =$K$34/6 -> 0 | V34: =$K$34/6 -> 0 | AF34: =$K$34/6 -> 0 | AG34: =$K$34/6 -> 0 | AH34: =$K$34/6 -> 0 | AY34: =IFERROR(AX34/K34,0) -> 0 | BA34: =SUM(M34:AV34) -> 0 | BB34: =IFERROR(BA34/K34,0) -> 0 | BD34: =AX34+BA34 -> 0 | BE34: =IFERROR(BD34/K34,0) -> 0
B35: LP1303 | J35: =I35/$C$5 -> 0 | K35: =D35*F35*H35*J35 -> 0 | AY35: =IFERROR(AX35/K35,0) -> 0 | BB35: =IFERROR(BA35/K35,0) -> 0 | BD35: =AX35+BA35 -> 0 | BE35: =IFERROR(BD35/K35,0) -> 0
B36: LP1304 | J36: =I36/$C$5 -> 0 | K36: =D36*F36*H36*J36 -> 0 | AY36: =IFERROR(AX36/K36,0) -> 0 | BB36: =IFERROR(BA36/K36,0) -> 0 | BD36: =AX36+BA36 -> 0 | BE36: =IFERROR(BD36/K36,0) -> 0
B37: LP1305 | J37: =I37/$C$5 -> 0 | K37: =D37*F37*H37*J37 -> 0 | AY37: =IFERROR(AX37/K37,0) -> 0 | BB37: =IFERROR(BA37/K37,0) -> 0 | BD37: =AX37+BA37 -> 0 | BE37: =IFERROR(BD37/K37,0) -> 0
